BEGIN:VCALENDAR
VERSION:2.0
PRODID:-//American Council On Germany - ECPv6.15.16.1//NONSGML v1.0//EN
CALSCALE:GREGORIAN
METHOD:PUBLISH
X-WR-CALNAME:American Council On Germany
X-ORIGINAL-URL:https://www.acgusa.org
X-WR-CALDESC:Events for American Council On Germany
REFRESH-INTERVAL;VALUE=DURATION:PT1H
X-Robots-Tag:noindex
X-PUBLISHED-TTL:PT1H
BEGIN:VTIMEZONE
TZID:America/New_York
BEGIN:DAYLIGHT
TZOFFSETFROM:-0500
TZOFFSETTO:-0400
TZNAME:EDT
DTSTART:20250309T070000
END:DAYLIGHT
BEGIN:STANDARD
TZOFFSETFROM:-0400
TZOFFSETTO:-0500
TZNAME:EST
DTSTART:20251102T060000
END:STANDARD
BEGIN:DAYLIGHT
TZOFFSETFROM:-0500
TZOFFSETTO:-0400
TZNAME:EDT
DTSTART:20260308T070000
END:DAYLIGHT
BEGIN:STANDARD
TZOFFSETFROM:-0400
TZOFFSETTO:-0500
TZNAME:EST
DTSTART:20261101T060000
END:STANDARD
BEGIN:DAYLIGHT
TZOFFSETFROM:-0500
TZOFFSETTO:-0400
TZNAME:EDT
DTSTART:20270314T070000
END:DAYLIGHT
BEGIN:STANDARD
TZOFFSETFROM:-0400
TZOFFSETTO:-0500
TZNAME:EST
DTSTART:20271107T060000
END:STANDARD
END:VTIMEZONE
BEGIN:VEVENT
DTSTART;TZID=America/New_York:20260423T110000
DTEND;TZID=America/New_York:20260423T114500
DTSTAMP:20260425T211732
CREATED:20260409T185050Z
LAST-MODIFIED:20260409T185050Z
UID:10001253-1776942000-1776944700@www.acgusa.org
SUMMARY:Virtual Discussion—Meet a Bundestag Member: German Politics Today
DESCRIPTION:[vc_row][vc_column][vc_column_text]The American Council on Germany (ACG)\, the American Association of Teachers of German (AATG)\, and the German Studies Association (GSA) have launched a new virtual series\, Meet a Bundestag Member: German Politics Today. The series offers students of German language and culture the chance to engage directly with members of the German Bundestag on timely political issues while practicing their German language skills. \nThe third session will take place on April 23 at 11:00 AM ET and will feature Deborah Düring (German Alliance 90/The Greens)\, who will join ACG President Dr. Steven E. Sokol for a 45-minute moderated discussion — held in German — incorporating questions posed by the audience. \nFollowing each event\, the conversations will also be released as podcasts\, making them easily accessible for members\, students\, and educators to use in the classroom. \n______________________________________________________________________________________________________ \nDeborah Düring has been a member of the German Bundestag since October 2021. Since January 2024 she has served as the foreign policy spokesperson for the Green parliamentary group. She previously served as spokesperson for development policy. She holds a bachelor’s degree (B.A.) in Social Sciences. She completed the master’s program “International Studies / Peace and Conflict Research” in 2025 at Goethe University Frankfurt and the Technical University of Darmstadt\, in cooperation with the Hessian Foundation for Peace and Conflict Research (HSFK). Alongside her studies\, she worked at the Kreditanstalt für Wiederaufbau (KfW) in the field of development cooperation and with the non governmental organization Survival International. Deborah Düring spent several years living and studying in Latin America\, including during a voluntary social year in an indigenous community in Costa Rica and during a semester abroad in Peru. \n[/vc_column_text][/vc_column][/vc_row][vc_row][vc_column][vc_btn title=”Register Here” style=”classic” align=”center” link=”url:https%3A%2F%2Fwww.aatg.org%2Fevents%2Fmeet-a-bundestag-member-german-politics-today—deborah-dring-%2Fregister%3Fmc_cid%3D8cbecac94b%26mc_eid%3D1c45133e9d”][/vc_column][/vc_row]
URL:https://www.acgusa.org/event/virtual-discussion-meet-a-bundestag-member-german-politics-today/
CATEGORIES:Virtual Discussions
END:VEVENT
BEGIN:VEVENT
DTSTART;TZID=America/New_York:20260427T090000
DTEND;TZID=America/New_York:20260427T100000
DTSTAMP:20260425T211732
CREATED:20260422T211559Z
LAST-MODIFIED:20260422T211559Z
UID:10001264-1777280400-1777284000@www.acgusa.org
SUMMARY:Virtual Event - Kaffeepause: What's Abuzz in Berlin?
DESCRIPTION:[vc_row][vc_column][vc_column_text]The ACG regularly hosts discussions with a journalist based in Berlin on the topics making the headlines and shaping political discourse. Join us on Monday\, April 27\, at 9:00 am for a Kaffeepause with Dr. Melanie Amann\, Member of the Editorial Team\, DER SPIEGEL.[/vc_column_text][vc_btn title=”Register Here” style=”classic” link=”url:https%3A%2F%2Fus02web.zoom.us%2Fwebinar%2Fregister%2F7817768923989%2FWN_onH_04XkTti9hhXD_NZkRw” css=”.vc_custom_1776892507656{background-color: #1e73be !important;background-position: center !important;background-repeat: no-repeat !important;background-size: cover !important;}”][vc_column_text]r. Melanie Amann is a Member of the Editorial Team at DER SPIEGEL. She studied Law in Trier\, Aix-en-Provence\, and Berlin\, and received her doctorate from the LMU Munich. From 2003 to 2004\, she spent a year at the German School of Journalism in Munich. After working as an editor at the Financial Times Deutschland\, the Frankfurter Allgemeine Zeitung\, and the Frankfurter Allgemeine Sonntagszeitung\, she moved to SPIEGEL in Berlin in 2013. From February 2019 until September 2025\, she headed SPIEGEL’s capital city bureau\, together with Sebastian Fischer\, Christoph Hickmann\, and Martin Knobbe. She was a member of the editorial board from May 2021 until September 2025.[/vc_column_text][/vc_column][/vc_row]
URL:https://www.acgusa.org/event/virtual-event-kaffeepause-whats-abuzz-in-berlin-9/
CATEGORIES:Virtual Discussions
END:VEVENT
END:VCALENDAR