BEGIN:VCALENDAR
VERSION:2.0
PRODID:-//American Council On Germany - ECPv6.15.16.1//NONSGML v1.0//EN
CALSCALE:GREGORIAN
METHOD:PUBLISH
X-ORIGINAL-URL:https://www.acgusa.org
X-WR-CALDESC:Events for American Council On Germany
REFRESH-INTERVAL;VALUE=DURATION:PT1H
X-Robots-Tag:noindex
X-PUBLISHED-TTL:PT1H
BEGIN:VTIMEZONE
TZID:America/New_York
BEGIN:DAYLIGHT
TZOFFSETFROM:-0500
TZOFFSETTO:-0400
TZNAME:EDT
DTSTART:20200308T070000
END:DAYLIGHT
BEGIN:STANDARD
TZOFFSETFROM:-0400
TZOFFSETTO:-0500
TZNAME:EST
DTSTART:20201101T060000
END:STANDARD
BEGIN:DAYLIGHT
TZOFFSETFROM:-0500
TZOFFSETTO:-0400
TZNAME:EDT
DTSTART:20210314T070000
END:DAYLIGHT
BEGIN:STANDARD
TZOFFSETFROM:-0400
TZOFFSETTO:-0500
TZNAME:EST
DTSTART:20211107T060000
END:STANDARD
BEGIN:DAYLIGHT
TZOFFSETFROM:-0500
TZOFFSETTO:-0400
TZNAME:EDT
DTSTART:20220313T070000
END:DAYLIGHT
BEGIN:STANDARD
TZOFFSETFROM:-0400
TZOFFSETTO:-0500
TZNAME:EST
DTSTART:20221106T060000
END:STANDARD
END:VTIMEZONE
BEGIN:VEVENT
DTSTART;TZID=America/New_York:20211118T090000
DTEND;TZID=America/New_York:20211118T100000
DTSTAMP:20260420T105403
CREATED:20211116T145520Z
LAST-MODIFIED:20211116T145520Z
UID:10000690-1637226000-1637229600@www.acgusa.org
SUMMARY:Progress or Status Quo on Climate Change? Takeaways from COP26
DESCRIPTION:[vc_row][vc_column][vc_column_text]Over the past two weeks\, representatives from nearly 200 countries convened in Glasgow for COP26 to discuss new plans to tackle climate change. The conference was regarded as the best – and last – chance to save the earth from the catastrophic consequences of global warming. However\, many attendees\, analysts\, and observers believe it fell short. Although the countries agreed there is a problem\, few actionable solutions were hammered out. \nJoin us on November 18 at 9:00 am ET for a discussion with Bundestag Member Lisa Badum (The Greens)\, who attended COP26 as part of the German delegation. She will reflect on the climate deal which was reached and what it means for the future of climate change policy. This event is supported by the Heinrich-Böll-Stiftung.[/vc_column_text][vc_btn title=”Register Here” style=”classic” link=”url:https%3A%2F%2Fus02web.zoom.us%2Fwebinar%2Fregister%2F2016370744426%2FWN_WsaCov_eQPWftl1TBwJRow” css=”.vc_custom_1637074475478{background-color: #1e73be !important;background-position: center !important;background-repeat: no-repeat !important;background-size: cover !important;}”][vc_column_text]Lisa Badum has been a Member of the German Bundestag since the autumn of 2017 for the constituency of Bamberg and for the whole of Upper Franconia. She is the spokeswoman for climate policy in the green parliamentary group. She is a member of the Environment Committee and Deputy Member of the Committee on Economic and Energy Affairs. From 2012 to 2017\, she worked in the civil energy department at NATURSTROM AG. She served as a research assistant and advisor to Bundestag Member Uwe Kekeritz (Alliance 90 / The Greens) from 2010-2013. She has a background in political science and received her bachelor’s degree from the University of Bamberg.[/vc_column_text][/vc_column][/vc_row]
URL:https://www.acgusa.org/event/progress-or-status-quo-on-climate-change-takeaways-from-cop26/
CATEGORIES:Virtual Discussions
END:VEVENT
END:VCALENDAR