BEGIN:VCALENDAR
VERSION:2.0
PRODID:-//American Council On Germany - ECPv6.15.16.1//NONSGML v1.0//EN
CALSCALE:GREGORIAN
METHOD:PUBLISH
X-WR-CALNAME:American Council On Germany
X-ORIGINAL-URL:https://www.acgusa.org
X-WR-CALDESC:Events for American Council On Germany
REFRESH-INTERVAL;VALUE=DURATION:PT1H
X-Robots-Tag:noindex
X-PUBLISHED-TTL:PT1H
BEGIN:VTIMEZONE
TZID:America/New_York
BEGIN:DAYLIGHT
TZOFFSETFROM:-0500
TZOFFSETTO:-0400
TZNAME:EDT
DTSTART:20200308T070000
END:DAYLIGHT
BEGIN:STANDARD
TZOFFSETFROM:-0400
TZOFFSETTO:-0500
TZNAME:EST
DTSTART:20201101T060000
END:STANDARD
BEGIN:DAYLIGHT
TZOFFSETFROM:-0500
TZOFFSETTO:-0400
TZNAME:EDT
DTSTART:20210314T070000
END:DAYLIGHT
BEGIN:STANDARD
TZOFFSETFROM:-0400
TZOFFSETTO:-0500
TZNAME:EST
DTSTART:20211107T060000
END:STANDARD
BEGIN:DAYLIGHT
TZOFFSETFROM:-0500
TZOFFSETTO:-0400
TZNAME:EDT
DTSTART:20220313T070000
END:DAYLIGHT
BEGIN:STANDARD
TZOFFSETFROM:-0400
TZOFFSETTO:-0500
TZNAME:EST
DTSTART:20221106T060000
END:STANDARD
END:VTIMEZONE
BEGIN:VEVENT
DTSTART;TZID=America/New_York:20211115T090000
DTEND;TZID=America/New_York:20211115T100000
DTSTAMP:20260423T005626
CREATED:20211110T195529Z
LAST-MODIFIED:20211110T195529Z
UID:10000689-1636966800-1636970400@www.acgusa.org
SUMMARY:Kaffeepause: What's Abuzz in Berlin?
DESCRIPTION:[vc_row][vc_column][vc_column_text]Each week\, the ACG hosts a discussion with a journalist based in Germany on the topics making the headlines and shaping political discourse in Berlin. Join us on Monday\, November 15 at 9:00 am ET\, for a discussion about German politics with opinion writer for Der Tagesspiegel Malte Lehming. .[/vc_column_text][vc_btn title=”Register here” style=”classic” link=”url:https%3A%2F%2Fus02web.zoom.us%2Fwebinar%2Fregister%2F5016365739644%2FWN_-lq6n7sBTuaj3RQWJvil0A” css=”.vc_custom_1636574042700{background-color: #1e73be !important;background-position: center !important;background-repeat: no-repeat !important;background-size: cover !important;}”][vc_column_text]Malte Lehming works as a writer for the Tagesspiegel\, where he heads the opinion page. From late 2000 to 2005\, he was the newspaper’s Washington bureau chief. He joined the Tagesspiegel in 1991 as foreign policy editor — focusing on security policy\, transatlantic relations\, and the Middle East. From 1989 to 1991\, he worked as a personal assistant and speechwriter for former German Chancellor Helmut Schmidt. Mr. Lehming studied philosophy\, German literature\, and European history in Hamburg.[/vc_column_text][/vc_column][/vc_row]
URL:https://www.acgusa.org/event/kaffeepause-whats-abuzz-in-berlin-23/
CATEGORIES:Virtual Discussions
END:VEVENT
END:VCALENDAR