BEGIN:VCALENDAR
VERSION:2.0
PRODID:-//American Council On Germany - ECPv6.15.16.1//NONSGML v1.0//EN
CALSCALE:GREGORIAN
METHOD:PUBLISH
X-WR-CALNAME:American Council On Germany
X-ORIGINAL-URL:https://www.acgusa.org
X-WR-CALDESC:Events for American Council On Germany
REFRESH-INTERVAL;VALUE=DURATION:PT1H
X-Robots-Tag:noindex
X-PUBLISHED-TTL:PT1H
BEGIN:VTIMEZONE
TZID:America/New_York
BEGIN:DAYLIGHT
TZOFFSETFROM:-0500
TZOFFSETTO:-0400
TZNAME:EDT
DTSTART:20170312T070000
END:DAYLIGHT
BEGIN:STANDARD
TZOFFSETFROM:-0400
TZOFFSETTO:-0500
TZNAME:EST
DTSTART:20171105T060000
END:STANDARD
BEGIN:DAYLIGHT
TZOFFSETFROM:-0500
TZOFFSETTO:-0400
TZNAME:EDT
DTSTART:20180311T070000
END:DAYLIGHT
BEGIN:STANDARD
TZOFFSETFROM:-0400
TZOFFSETTO:-0500
TZNAME:EST
DTSTART:20181104T060000
END:STANDARD
BEGIN:DAYLIGHT
TZOFFSETFROM:-0500
TZOFFSETTO:-0400
TZNAME:EDT
DTSTART:20190310T070000
END:DAYLIGHT
BEGIN:STANDARD
TZOFFSETFROM:-0400
TZOFFSETTO:-0500
TZNAME:EST
DTSTART:20191103T060000
END:STANDARD
END:VTIMEZONE
BEGIN:VEVENT
DTSTART;TZID=America/New_York:20180507T080000
DTEND;TZID=America/New_York:20180507T150000
DTSTAMP:20260424T070100
CREATED:20180307T220156Z
LAST-MODIFIED:20180503T144108Z
UID:10000212-1525680000-1525705200@www.acgusa.org
SUMMARY:Washington\, DC: The Alliance in Question? The Transatlantic Relationship in an Era of Disruption
DESCRIPTION:[vc_row][vc_column][vc_column_text]The American Council on Germany and the Atlantik-Brücke will host the annual German-American Conference in Washington\, DC.  \nOver the past year\, the strong alliance between the United States and Germany has weakened as both countries have been more inwardly focused. Finding common ground to address common concerns has become more challenging. In an era of disruption\, it makes transatlantic dialogue on a range of issues of mutual concern all the more important. This year’s joint conference will address the challenges facing the German-American partnership with a focus on foreign and security policy\, trade and economic policy\, as well as the socio-political challenges of digital disruption and the dissemination of fake news and alternative facts. \nRegistration has ended for this event.[/vc_column_text][/vc_column][/vc_row]
URL:https://www.acgusa.org/event/washington-dc-the-alliance-in-question-the-transatlantic-relationship-in-an-era-of-disruption/
CATEGORIES:Other Programs
END:VEVENT
END:VCALENDAR