BEGIN:VCALENDAR
VERSION:2.0
PRODID:-//American Council On Germany - ECPv6.15.16.1//NONSGML v1.0//EN
CALSCALE:GREGORIAN
METHOD:PUBLISH
X-WR-CALNAME:American Council On Germany
X-ORIGINAL-URL:https://www.acgusa.org
X-WR-CALDESC:Events for American Council On Germany
REFRESH-INTERVAL;VALUE=DURATION:PT1H
X-Robots-Tag:noindex
X-PUBLISHED-TTL:PT1H
BEGIN:VTIMEZONE
TZID:America/New_York
BEGIN:DAYLIGHT
TZOFFSETFROM:-0500
TZOFFSETTO:-0400
TZNAME:EDT
DTSTART:20170312T070000
END:DAYLIGHT
BEGIN:STANDARD
TZOFFSETFROM:-0400
TZOFFSETTO:-0500
TZNAME:EST
DTSTART:20171105T060000
END:STANDARD
BEGIN:DAYLIGHT
TZOFFSETFROM:-0500
TZOFFSETTO:-0400
TZNAME:EDT
DTSTART:20180311T070000
END:DAYLIGHT
BEGIN:STANDARD
TZOFFSETFROM:-0400
TZOFFSETTO:-0500
TZNAME:EST
DTSTART:20181104T060000
END:STANDARD
BEGIN:DAYLIGHT
TZOFFSETFROM:-0500
TZOFFSETTO:-0400
TZNAME:EDT
DTSTART:20190310T070000
END:DAYLIGHT
BEGIN:STANDARD
TZOFFSETFROM:-0400
TZOFFSETTO:-0500
TZNAME:EST
DTSTART:20191103T060000
END:STANDARD
END:VTIMEZONE
BEGIN:VEVENT
DTSTART;TZID=America/New_York:20180601T163000
DTEND;TZID=America/New_York:20180601T183000
DTSTAMP:20260423T033338
CREATED:20180524T170014Z
LAST-MODIFIED:20180524T170014Z
UID:10000234-1527870600-1527877800@www.acgusa.org
SUMMARY:Berlin: Fake News and Alternative Facts: Media's Role in Shaping U.S. Politics
DESCRIPTION:[vc_row][vc_column][vc_column_text]The American Council on Germany will host a discussion and reception with Oliver Bilger\, Journalist and 2017 ACG Kellen Fellow.  \nThere is no charge to attend this event. RSVP (acceptances only) to the American Council on Germany at events@acgusa.org. \nOliver Bilger (2017 Kellen Fellow) is a freelance journalist based in Berlin. He regularly works for the political department of Der Tagesspiegel. His reports have appeared in publications including Neue Zürcher Zeitung\, Zeit Online\, Die Welt\, Cicero\, and Handelsblatt. In 2017\, he spent eight weeks as a visiting journalist at the Philadelphia Inquirer. He studied political science and communications in Mainz\, Zurich\, Berlin\, and London and completed a two-year journalistic training at the Sueddeutsche Zeitung in Munich. During his Kellen Fellowship\, he researched how media can protect against fake news and misinformation.[/vc_column_text][/vc_column][/vc_row]
URL:https://www.acgusa.org/event/berlin-fake-news-and-alternative-facts-medias-role-in-shaping-u-s-politics/
LOCATION:Berlin\, Germany
CATEGORIES:Other Programs
GEO:51.165691;10.451526
END:VEVENT
END:VCALENDAR