BEGIN:VCALENDAR
VERSION:2.0
PRODID:-//American Council On Germany - ECPv6.15.16.1//NONSGML v1.0//EN
CALSCALE:GREGORIAN
METHOD:PUBLISH
X-ORIGINAL-URL:https://www.acgusa.org
X-WR-CALDESC:Events for American Council On Germany
REFRESH-INTERVAL;VALUE=DURATION:PT1H
X-Robots-Tag:noindex
X-PUBLISHED-TTL:PT1H
BEGIN:VTIMEZONE
TZID:America/New_York
BEGIN:DAYLIGHT
TZOFFSETFROM:-0500
TZOFFSETTO:-0400
TZNAME:EDT
DTSTART:20250309T070000
END:DAYLIGHT
BEGIN:STANDARD
TZOFFSETFROM:-0400
TZOFFSETTO:-0500
TZNAME:EST
DTSTART:20251102T060000
END:STANDARD
BEGIN:DAYLIGHT
TZOFFSETFROM:-0500
TZOFFSETTO:-0400
TZNAME:EDT
DTSTART:20260308T070000
END:DAYLIGHT
BEGIN:STANDARD
TZOFFSETFROM:-0400
TZOFFSETTO:-0500
TZNAME:EST
DTSTART:20261101T060000
END:STANDARD
BEGIN:DAYLIGHT
TZOFFSETFROM:-0500
TZOFFSETTO:-0400
TZNAME:EDT
DTSTART:20270314T070000
END:DAYLIGHT
BEGIN:STANDARD
TZOFFSETFROM:-0400
TZOFFSETTO:-0500
TZNAME:EST
DTSTART:20271107T060000
END:STANDARD
END:VTIMEZONE
BEGIN:VEVENT
DTSTART;TZID=America/New_York:20260422T080000
DTEND;TZID=America/New_York:20260422T093000
DTSTAMP:20260425T181408
CREATED:20260414T195841Z
LAST-MODIFIED:20260415T162247Z
UID:10001254-1776844800-1776850200@www.acgusa.org
SUMMARY:NYC Event: “The ‘Multi-polarization’ of the World: Europe\, the United States\, and the Current Crisis in the Middle East”
DESCRIPTION:[vc_row][vc_column][vc_column_text] \n \nThe American Council on Germany will host a Breakfast Briefing  on “The ‘Multi-polarization’ of the World: Europe\, the United States\, and the Current Crisis in the Middle East” with Dr. Volker Perthes\,Senior Distinguished Fellow at German Institute for International and Security Affairs (SWP) and Former Under Secretary General of the United Nations. \nTo RSVP\, please email events@acgusa.org by Monday\, April 20\, with your name\, title\, and affiliation. \nDr. Volker Perthes is a Senior Distinguished Fellow at the German Institute for International and Security Affairs (Stiftung Wissenschaft und Politik\, SWP) and former Under Secretary General of the United Nations. He previously served as Special Representative of the Secretary General for Sudan and Head of UNITAMS (from February 2021 through October 2023) and led the Independent Strategic Review of UNAMI (Iraq) (from October 2023 through March 2024). \nFrom 2005 to 2020\, he was Director and CEO of Stiftung Wissenschaft und Politik and also taught international relations at Humboldt University\, Berlin. He is a prolific author and commentator\, with a focus on global geopolitics\, Europe\, the Middle East\, and international organizations. \n[/vc_column_text][/vc_column][/vc_row][vc_row][vc_column][/vc_column][/vc_row]
URL:https://www.acgusa.org/event/nyc-event-the-multi-polarization-of-the-world-europe-the-united-states-and-the-current-crisis-in-the-middle-east/
CATEGORIES:NYC Events
END:VEVENT
END:VCALENDAR