BEGIN:VCALENDAR
VERSION:2.0
PRODID:-//American Council On Germany - ECPv6.15.16.1//NONSGML v1.0//EN
CALSCALE:GREGORIAN
METHOD:PUBLISH
X-ORIGINAL-URL:https://www.acgusa.org
X-WR-CALDESC:Events for American Council On Germany
REFRESH-INTERVAL;VALUE=DURATION:PT1H
X-Robots-Tag:noindex
X-PUBLISHED-TTL:PT1H
BEGIN:VTIMEZONE
TZID:America/New_York
BEGIN:DAYLIGHT
TZOFFSETFROM:-0500
TZOFFSETTO:-0400
TZNAME:EDT
DTSTART:20250309T070000
END:DAYLIGHT
BEGIN:STANDARD
TZOFFSETFROM:-0400
TZOFFSETTO:-0500
TZNAME:EST
DTSTART:20251102T060000
END:STANDARD
BEGIN:DAYLIGHT
TZOFFSETFROM:-0500
TZOFFSETTO:-0400
TZNAME:EDT
DTSTART:20260308T070000
END:DAYLIGHT
BEGIN:STANDARD
TZOFFSETFROM:-0400
TZOFFSETTO:-0500
TZNAME:EST
DTSTART:20261101T060000
END:STANDARD
BEGIN:DAYLIGHT
TZOFFSETFROM:-0500
TZOFFSETTO:-0400
TZNAME:EDT
DTSTART:20270314T070000
END:DAYLIGHT
BEGIN:STANDARD
TZOFFSETFROM:-0400
TZOFFSETTO:-0500
TZNAME:EST
DTSTART:20271107T060000
END:STANDARD
END:VTIMEZONE
BEGIN:VEVENT
DTSTART;TZID=America/New_York:20260224T120000
DTEND;TZID=America/New_York:20260224T133000
DTSTAMP:20260421T195330
CREATED:20260218T205258Z
LAST-MODIFIED:20260223T160324Z
UID:10001228-1771934400-1771939800@www.acgusa.org
SUMMARY:CANCELLED- NYC Events: Discussion in German with Staatsminister Florian Hahn
DESCRIPTION:[vc_row][vc_column][vc_column_text]THIS EVENT HAS BEEN CANCELLED DUE TO THE WEATHER. \n  \nThe American Council on Germany will host a discussion and luncheon on “War\, Resilience\, and Europe’s Security Future” with Staatsminister Florian Hahn\, Minister of State at the German Federal Foreign Office. \n  \n  \n  \n  \n  \n  \nThis event will be held in German. \nFlorian Hahn is a German politician serving as Minister of State at the German Federal Foreign Office (Auswärtiges Amt). A long-standing member of the German Bundestag\, he represents the Christian Social Union (CSU) and has built his career around European security and defense policy. \nBefore joining the Foreign Office leadership\, Mr. Hahn was the CDU/CSU parliamentary group’s defense policy spokesperson and previously its European policy spokesperson\, roles that made him a prominent voice on NATO\, transatlantic relations\, and Germany’s security posture. In his current post\, he supports Germany’s foreign minister on political\, foreign\, and security policy priorities\, with a particular focus on Europe and the transatlantic partnership.[/vc_column_text][/vc_column][/vc_row]
URL:https://www.acgusa.org/event/nyc-events-discussion-in-german-with-staatsminister-florian-hahn/
CATEGORIES:NYC Events
END:VEVENT
END:VCALENDAR