BEGIN:VCALENDAR
VERSION:2.0
PRODID:-//American Council On Germany - ECPv6.15.16.1//NONSGML v1.0//EN
CALSCALE:GREGORIAN
METHOD:PUBLISH
X-ORIGINAL-URL:https://www.acgusa.org
X-WR-CALDESC:Events for American Council On Germany
REFRESH-INTERVAL;VALUE=DURATION:PT1H
X-Robots-Tag:noindex
X-PUBLISHED-TTL:PT1H
BEGIN:VTIMEZONE
TZID:America/New_York
BEGIN:DAYLIGHT
TZOFFSETFROM:-0500
TZOFFSETTO:-0400
TZNAME:EDT
DTSTART:20240310T070000
END:DAYLIGHT
BEGIN:STANDARD
TZOFFSETFROM:-0400
TZOFFSETTO:-0500
TZNAME:EST
DTSTART:20241103T060000
END:STANDARD
BEGIN:DAYLIGHT
TZOFFSETFROM:-0500
TZOFFSETTO:-0400
TZNAME:EDT
DTSTART:20250309T070000
END:DAYLIGHT
BEGIN:STANDARD
TZOFFSETFROM:-0400
TZOFFSETTO:-0500
TZNAME:EST
DTSTART:20251102T060000
END:STANDARD
BEGIN:DAYLIGHT
TZOFFSETFROM:-0500
TZOFFSETTO:-0400
TZNAME:EDT
DTSTART:20260308T070000
END:DAYLIGHT
BEGIN:STANDARD
TZOFFSETFROM:-0400
TZOFFSETTO:-0500
TZNAME:EST
DTSTART:20261101T060000
END:STANDARD
END:VTIMEZONE
BEGIN:VEVENT
DTSTART;TZID=America/New_York:20251014T120000
DTEND;TZID=America/New_York:20251014T133000
DTSTAMP:20260423T103317
CREATED:20251002T164156Z
LAST-MODIFIED:20251002T164156Z
UID:10001171-1760443200-1760448600@www.acgusa.org
SUMMARY:What Should the Transatlantic Partnership Look Like in Five Years?
DESCRIPTION:[vc_row][vc_column][vc_column_text]The ACG will host a discussion and luncheon with Dr. Alexandra de Hoop Scheffer\, President of the German Marshall Fund of the United States and Co-Author of “Rebalancing Transatlantic Relations: A Roadmap for 2030”. \nDr. Alexandra de Hoop Scheffer is the President of the German Marshall Fund of the United States (GMF). With over 20 years of experience at the intersection of international relations\, policy research\, and public engagement\, she is a leading authority on geopolitics\, transatlantic relations\, and global security. Her expertise has shaped how governments and businesses approach defense\, diplomacy\, and geo-economics on both sides of the Atlantic. Dr. de Hoop Scheffer is an independent board director and a frequent speaker and published commentator on international affairs. She holds a PhD in Political Science from Sciences Po Paris.[/vc_column_text][/vc_column][/vc_row]
URL:https://www.acgusa.org/event/what-should-the-transatlantic-partnership-look-like-in-five-years/
CATEGORIES:NYC Events
END:VEVENT
END:VCALENDAR