BEGIN:VCALENDAR
VERSION:2.0
PRODID:-//American Council On Germany - ECPv6.15.16.1//NONSGML v1.0//EN
CALSCALE:GREGORIAN
METHOD:PUBLISH
X-WR-CALNAME:American Council On Germany
X-ORIGINAL-URL:https://www.acgusa.org
X-WR-CALDESC:Events for American Council On Germany
REFRESH-INTERVAL;VALUE=DURATION:PT1H
X-Robots-Tag:noindex
X-PUBLISHED-TTL:PT1H
BEGIN:VTIMEZONE
TZID:America/New_York
BEGIN:DAYLIGHT
TZOFFSETFROM:-0500
TZOFFSETTO:-0400
TZNAME:EDT
DTSTART:20240310T070000
END:DAYLIGHT
BEGIN:STANDARD
TZOFFSETFROM:-0400
TZOFFSETTO:-0500
TZNAME:EST
DTSTART:20241103T060000
END:STANDARD
BEGIN:DAYLIGHT
TZOFFSETFROM:-0500
TZOFFSETTO:-0400
TZNAME:EDT
DTSTART:20250309T070000
END:DAYLIGHT
BEGIN:STANDARD
TZOFFSETFROM:-0400
TZOFFSETTO:-0500
TZNAME:EST
DTSTART:20251102T060000
END:STANDARD
BEGIN:DAYLIGHT
TZOFFSETFROM:-0500
TZOFFSETTO:-0400
TZNAME:EDT
DTSTART:20260308T070000
END:DAYLIGHT
BEGIN:STANDARD
TZOFFSETFROM:-0400
TZOFFSETTO:-0500
TZNAME:EST
DTSTART:20261101T060000
END:STANDARD
END:VTIMEZONE
BEGIN:VEVENT
DTSTART;TZID=America/New_York:20251009T090000
DTEND;TZID=America/New_York:20251009T103000
DTSTAMP:20260421T175121
CREATED:20250930T184425Z
LAST-MODIFIED:20250930T194802Z
UID:10001168-1760000400-1760005800@www.acgusa.org
SUMMARY:What’s New Since the Federal Election? Germany’s Evolving Role in Europe
DESCRIPTION:[vc_row][vc_column][vc_column_text]The American Council on Germany will host a breakfast briefing with Dr. Andreas Dombret\, Former Executive Board Member of the Deutsche Bundesbank. \nDr. Andreas Dombret is a German-American banker who served as a member of the Executive Board of the Deutsche Bundesbank from 2010 until 2018. In that capacity\, he held responsibility for Banking and Financial Supervision\, Risk Controlling\, and the Bundesbank’s Representative Offices abroad. He was also a member of the Basel Committee on Banking Supervision\, the Supervisory Board of the Single Supervisory Mechanism of the European Central Bank as well as the German Financial Stability Committee. Earlier in his career\, Dr. Dombret was the Vice-chairman of Bank of America Global Investment Banking in Europe\, the Middle East\, and Africa as well as head of the German\, Austrian\, and Swiss branches. After retiring from the Board of the Bundesbank\, Dr. Dombret continued to serve on the Board of the Basel-based Bank for International Settlements until the end of 2018 and subsequently assumed a portfolio of advisory mandates. Among them are consultancy firm Oliver Wyman\, Sumitomo Mitsui Banking Corporation (SMBC)\, and the London-headquartered equity research firm Autonomous. He is also an Adjunct Senior Research Scholar at Columbia University’s School of International and Public Affairs. Dr. Dombret completed his MBA at Westfälische Wilhelms University Münster and earned his doctorate at Friedrich-Alexander University Erlangen-Nürnberg. He holds dual German and American citizenship.[/vc_column_text][/vc_column][/vc_row]
URL:https://www.acgusa.org/event/whats-new-since-the-federal-election-germanys-evolving-role-in-europe/
CATEGORIES:NYC Events
END:VEVENT
END:VCALENDAR