BEGIN:VCALENDAR
VERSION:2.0
PRODID:-//American Council On Germany - ECPv6.15.16.1//NONSGML v1.0//EN
CALSCALE:GREGORIAN
METHOD:PUBLISH
X-WR-CALNAME:American Council On Germany
X-ORIGINAL-URL:https://www.acgusa.org
X-WR-CALDESC:Events for American Council On Germany
REFRESH-INTERVAL;VALUE=DURATION:PT1H
X-Robots-Tag:noindex
X-PUBLISHED-TTL:PT1H
BEGIN:VTIMEZONE
TZID:America/New_York
BEGIN:DAYLIGHT
TZOFFSETFROM:-0500
TZOFFSETTO:-0400
TZNAME:EDT
DTSTART:20240310T070000
END:DAYLIGHT
BEGIN:STANDARD
TZOFFSETFROM:-0400
TZOFFSETTO:-0500
TZNAME:EST
DTSTART:20241103T060000
END:STANDARD
BEGIN:DAYLIGHT
TZOFFSETFROM:-0500
TZOFFSETTO:-0400
TZNAME:EDT
DTSTART:20250309T070000
END:DAYLIGHT
BEGIN:STANDARD
TZOFFSETFROM:-0400
TZOFFSETTO:-0500
TZNAME:EST
DTSTART:20251102T060000
END:STANDARD
BEGIN:DAYLIGHT
TZOFFSETFROM:-0500
TZOFFSETTO:-0400
TZNAME:EDT
DTSTART:20260308T070000
END:DAYLIGHT
BEGIN:STANDARD
TZOFFSETFROM:-0400
TZOFFSETTO:-0500
TZNAME:EST
DTSTART:20261101T060000
END:STANDARD
END:VTIMEZONE
BEGIN:VEVENT
DTSTART;TZID=America/New_York:20251008T170000
DTEND;TZID=America/New_York:20251008T183000
DTSTAMP:20260419T164604
CREATED:20251002T164006Z
LAST-MODIFIED:20251002T164023Z
UID:10001170-1759942800-1759948200@www.acgusa.org
SUMMARY:A Strategic Outlook: The Transatlantic Relationship in a New Era
DESCRIPTION:[vc_row][vc_column][vc_column_text]The ACG will host a discussion and reception with State Secretary Dr. Géza Andreas von Geyr of the Federal Foreign Office. \n  \nDr. Géza Andreas von Geyr has been a State Secretary in the Federal Foreign Office since May 2025. He is a German career foreign service officer who most recently served as Germany’s Permanent Representative to NATO and\, before that\, as Germany’s Ambassador to Russia. He has held key positions in other government agencies\, including serving as Political Director in the Federal Ministry of Defense from 2014 to 2019; Vice President of the Federal Intelligence Service from 2010 to 2014; and Head of Division of the Foreign and Security Policy Directorate-General in the Federal Chancellery from 2006 to 2010. From 2001 to 2006\, he was a staff member of the CDU/CSU parliamentary group in the German Bundestag and advised Dr. Wolfgang Schäuble on foreign and security policy. \nDr. von Geyr joined the foreign service in 1991 after studying Modern History\, Ancient History\, and Communication in Munich\, Budapest\, and Vienna\, as well as Political Science in Munich and Washington\, DC.[/vc_column_text][/vc_column][/vc_row]
URL:https://www.acgusa.org/event/a-strategic-outlook-the-transatlantic-relationship-in-a-new-era/
CATEGORIES:NYC Events
END:VEVENT
END:VCALENDAR