BEGIN:VCALENDAR
VERSION:2.0
PRODID:-//American Council On Germany - ECPv6.15.16.1//NONSGML v1.0//EN
CALSCALE:GREGORIAN
METHOD:PUBLISH
X-ORIGINAL-URL:https://www.acgusa.org
X-WR-CALDESC:Events for American Council On Germany
REFRESH-INTERVAL;VALUE=DURATION:PT1H
X-Robots-Tag:noindex
X-PUBLISHED-TTL:PT1H
BEGIN:VTIMEZONE
TZID:America/New_York
BEGIN:DAYLIGHT
TZOFFSETFROM:-0500
TZOFFSETTO:-0400
TZNAME:EDT
DTSTART:20240310T070000
END:DAYLIGHT
BEGIN:STANDARD
TZOFFSETFROM:-0400
TZOFFSETTO:-0500
TZNAME:EST
DTSTART:20241103T060000
END:STANDARD
BEGIN:DAYLIGHT
TZOFFSETFROM:-0500
TZOFFSETTO:-0400
TZNAME:EDT
DTSTART:20250309T070000
END:DAYLIGHT
BEGIN:STANDARD
TZOFFSETFROM:-0400
TZOFFSETTO:-0500
TZNAME:EST
DTSTART:20251102T060000
END:STANDARD
BEGIN:DAYLIGHT
TZOFFSETFROM:-0500
TZOFFSETTO:-0400
TZNAME:EDT
DTSTART:20260308T070000
END:DAYLIGHT
BEGIN:STANDARD
TZOFFSETFROM:-0400
TZOFFSETTO:-0500
TZNAME:EST
DTSTART:20261101T060000
END:STANDARD
END:VTIMEZONE
BEGIN:VEVENT
DTSTART;TZID=America/New_York:20250912T120000
DTEND;TZID=America/New_York:20250912T133000
DTSTAMP:20260419T084928
CREATED:20250905T141236Z
LAST-MODIFIED:20250905T141315Z
UID:10001145-1757678400-1757683800@www.acgusa.org
SUMMARY:The Political Economy of Geoeconomic Power:  Observations from Germany
DESCRIPTION:[vc_row][vc_column][vc_column_text]The American Council on Germany will host a discussion and luncheon with Dr. Berend Diekmann\, Head of Division for the United States\, Canada\, and Mexico in the German Federal Ministry of Economic Affairs and Energy (BMWE). \nDr. Berend Diekmann is the Head of Division for the United States\, Canada\, and Mexico\, in the Federal Ministry of Economic Affairs and Energy (BMWE). In this capacity\, he is responsible for transatlantic trade issues\, CETA\, TTC\, trade negotiations with Mexico\, and all current topics related to transatlantic economic relations. Until late 2014\, he was also responsible for external economic policy and OECD. \nDr. Diekmann has published extensively on issues such as public finance and fiscal federalism\, EU financing\, the policy of international organizations such as IMF\, WTO\, World Bank and UNCTAD\, international trade issues\, and current challenges facing the U.S. economy. He holds a Master of Economics from Kiel University and a Ph.D. in Economics from Mainz University.[/vc_column_text][/vc_column][/vc_row]
URL:https://www.acgusa.org/event/the-political-economy-of-geoeconomic-power-observations-from-germany/
LOCATION:American Council on Germany\, Germany
CATEGORIES:NYC Events
GEO:51.165691;10.451526
END:VEVENT
END:VCALENDAR