BEGIN:VCALENDAR
VERSION:2.0
PRODID:-//American Council On Germany - ECPv6.15.16.1//NONSGML v1.0//EN
CALSCALE:GREGORIAN
METHOD:PUBLISH
X-WR-CALNAME:American Council On Germany
X-ORIGINAL-URL:https://www.acgusa.org
X-WR-CALDESC:Events for American Council On Germany
REFRESH-INTERVAL;VALUE=DURATION:PT1H
X-Robots-Tag:noindex
X-PUBLISHED-TTL:PT1H
BEGIN:VTIMEZONE
TZID:America/New_York
BEGIN:DAYLIGHT
TZOFFSETFROM:-0500
TZOFFSETTO:-0400
TZNAME:EDT
DTSTART:20240310T070000
END:DAYLIGHT
BEGIN:STANDARD
TZOFFSETFROM:-0400
TZOFFSETTO:-0500
TZNAME:EST
DTSTART:20241103T060000
END:STANDARD
BEGIN:DAYLIGHT
TZOFFSETFROM:-0500
TZOFFSETTO:-0400
TZNAME:EDT
DTSTART:20250309T070000
END:DAYLIGHT
BEGIN:STANDARD
TZOFFSETFROM:-0400
TZOFFSETTO:-0500
TZNAME:EST
DTSTART:20251102T060000
END:STANDARD
BEGIN:DAYLIGHT
TZOFFSETFROM:-0500
TZOFFSETTO:-0400
TZNAME:EDT
DTSTART:20260308T070000
END:DAYLIGHT
BEGIN:STANDARD
TZOFFSETFROM:-0400
TZOFFSETTO:-0500
TZNAME:EST
DTSTART:20261101T060000
END:STANDARD
END:VTIMEZONE
BEGIN:VEVENT
DTSTART;TZID=America/New_York:20250827T180000
DTEND;TZID=America/New_York:20250827T193000
DTSTAMP:20260423T070607
CREATED:20250818T200525Z
LAST-MODIFIED:20250818T200525Z
UID:10001138-1756317600-1756323000@www.acgusa.org
SUMMARY:Transformation through AI: Challenges and Opportunities for Germany
DESCRIPTION:[vc_row][vc_column][vc_column_text]The ACG will host a discussion and reception with Stephan Albani\, Member of the German Bundestag (CDU/CSU) and Deputy Chair of the Research\, Space\, and Technology Assessment Committee in the German Federal Parliament. \nStephan Albani has been a Member of the German Bundestag representing the Oldenburg-Ammerland constituency in Lower Saxony since 2013. He currently serves as the Deputy Chair of the Research\, Space\, and Technology Assessment Committee in the Bundestag\, as well as a Member of the Committee for Education\, Family\, Senior Citizens\, Women and Youth. He has previously chaired Parliamentary Friendship Groups for Relations with South-Eastern Europe\, Ireland\, and Egypt. Since 2018\, he also served as a board member at the federal level of the Small Business and Economic Union (MIT – Mittelstands und Wirtschaftsunion) associated with the CDU/CSU. Before being elected to the Bundestag\, Mr. Albani served as the Managing Director of several organizations related to hearing research. \nMr. Albani studied Physics at the University of Göttingen.[/vc_column_text][/vc_column][/vc_row]
URL:https://www.acgusa.org/event/transformation-through-ai-challenges-and-opportunities-for-germany/
CATEGORIES:NYC Events
END:VEVENT
END:VCALENDAR