BEGIN:VCALENDAR
VERSION:2.0
PRODID:-//American Council On Germany - ECPv6.15.16.1//NONSGML v1.0//EN
CALSCALE:GREGORIAN
METHOD:PUBLISH
X-ORIGINAL-URL:https://www.acgusa.org
X-WR-CALDESC:Events for American Council On Germany
REFRESH-INTERVAL;VALUE=DURATION:PT1H
X-Robots-Tag:noindex
X-PUBLISHED-TTL:PT1H
BEGIN:VTIMEZONE
TZID:America/New_York
BEGIN:DAYLIGHT
TZOFFSETFROM:-0500
TZOFFSETTO:-0400
TZNAME:EDT
DTSTART:20190310T070000
END:DAYLIGHT
BEGIN:STANDARD
TZOFFSETFROM:-0400
TZOFFSETTO:-0500
TZNAME:EST
DTSTART:20191103T060000
END:STANDARD
BEGIN:DAYLIGHT
TZOFFSETFROM:-0500
TZOFFSETTO:-0400
TZNAME:EDT
DTSTART:20200308T070000
END:DAYLIGHT
BEGIN:STANDARD
TZOFFSETFROM:-0400
TZOFFSETTO:-0500
TZNAME:EST
DTSTART:20201101T060000
END:STANDARD
BEGIN:DAYLIGHT
TZOFFSETFROM:-0500
TZOFFSETTO:-0400
TZNAME:EDT
DTSTART:20210314T070000
END:DAYLIGHT
BEGIN:STANDARD
TZOFFSETFROM:-0400
TZOFFSETTO:-0500
TZNAME:EST
DTSTART:20211107T060000
END:STANDARD
END:VTIMEZONE
BEGIN:VEVENT
DTSTART;TZID=America/New_York:20200130T080000
DTEND;TZID=America/New_York:20200130T093000
DTSTAMP:20260422T035751
CREATED:20200127T161640Z
LAST-MODIFIED:20200127T161640Z
UID:10000309-1580371200-1580376600@www.acgusa.org
SUMMARY:NYC: New German and European Climate Policies
DESCRIPTION:[vc_row][vc_column][vc_column_text]The ACG and the University Alliance Ruhr will host a breakfast briefing with Professor Dr. Cristoph M. Schmidt\, Chairman of the German Council of Economic Experts and President of the RWI – Leibniz Institute for Economic Research.  \nThis event is only open to members of the ACG. \nProfessor Dr. Christoph M. Schmidt is the current Chairman of the German Council of Economic Experts (Sachverständigenrat Wirtschaft) and has been a member of the council since 2009. He is also President of the RWI – Leibniz Institute for Economic Research in Essen\, Germany\, and lectures on economic policy and applied econometrics at Ruhr University in Bochum\, Germany. In 2011\, Dr. Schmidt was appointed to the Enquete Commission for Growth\, Welfare\, and Quality of Life of the German Bundestag. His field of research is applied econometrics with a recent focus on macroeconomic questions related to energy\, health\, and labor market policy. \nDr. Schmidt received his M.A. and Ph.D. at Princeton University in 1989 and 1991\, respectively\, and in 1995\, and he received the degree of Dr. rer. pol. habil. from the University of Munich. In November 2019\, he received an honorary doctorate from the Faculty of Economics and Management at Leibniz University in Hannover. He served as an Editor of the German Economic Review and the Journal of Population Economics\, and he has published articles in journals such as The Review of Economics and Statistics and the Journal of Public Economics. \n[/vc_column_text][/vc_column][/vc_row]
URL:https://www.acgusa.org/event/nyc-new-german-and-european-climate-policies/
CATEGORIES:NYC Events
END:VEVENT
END:VCALENDAR