BEGIN:VCALENDAR
VERSION:2.0
PRODID:-//American Council On Germany - ECPv6.15.16.1//NONSGML v1.0//EN
CALSCALE:GREGORIAN
METHOD:PUBLISH
X-ORIGINAL-URL:https://www.acgusa.org
X-WR-CALDESC:Events for American Council On Germany
REFRESH-INTERVAL;VALUE=DURATION:PT1H
X-Robots-Tag:noindex
X-PUBLISHED-TTL:PT1H
BEGIN:VTIMEZONE
TZID:America/New_York
BEGIN:DAYLIGHT
TZOFFSETFROM:-0500
TZOFFSETTO:-0400
TZNAME:EDT
DTSTART:20250309T070000
END:DAYLIGHT
BEGIN:STANDARD
TZOFFSETFROM:-0400
TZOFFSETTO:-0500
TZNAME:EST
DTSTART:20251102T060000
END:STANDARD
BEGIN:DAYLIGHT
TZOFFSETFROM:-0500
TZOFFSETTO:-0400
TZNAME:EDT
DTSTART:20260308T070000
END:DAYLIGHT
BEGIN:STANDARD
TZOFFSETFROM:-0400
TZOFFSETTO:-0500
TZNAME:EST
DTSTART:20261101T060000
END:STANDARD
BEGIN:DAYLIGHT
TZOFFSETFROM:-0500
TZOFFSETTO:-0400
TZNAME:EDT
DTSTART:20270314T070000
END:DAYLIGHT
BEGIN:STANDARD
TZOFFSETFROM:-0400
TZOFFSETTO:-0500
TZNAME:EST
DTSTART:20271107T060000
END:STANDARD
END:VTIMEZONE
BEGIN:VEVENT
DTSTART;TZID=America/New_York:20260211T180000
DTEND;TZID=America/New_York:20260211T193000
DTSTAMP:20260419T134312
CREATED:20260203T183317Z
LAST-MODIFIED:20260203T183434Z
UID:10001222-1770832800-1770838200@www.acgusa.org
SUMMARY:Munich Event: "Must Europe Become More Independent from the United States? If so\, how?"
DESCRIPTION:[vc_row][vc_column][vc_column_text]The American Council on Germany and ZIRNGIBL Rechtsanwälte Partnerschaft mbB will host a discussion and reception with Simon Book\, U.S. Correspondent for DER SPIEGEL (2016 ACG Kellen Fellow) and Robin Quinville\,  Former Chargé d’Affaires of the U.S. Embassy in Germany and Former Director of the Wilson Center’s Global Europe Program. \nSimon Book studied at the University of Passau and was trained at the German School of Journalism in Munich. From 2011 he served as an editor at the Financial Times Deutschland and from 2013 on as a reporter at Germany’s business daily Handelsblatt. In 2016\, he joined the business weekly WirtschaftsWoche. Since 2020\, Mr. Book is with Germany’s leading weekly magazine and news outlet DER SPIEGEL. Initially\, he wrote for the economics desk in Berlin\, and in October 2023 he took over as DER SPIEGEL’s business correspondent in the United States. In 2016\, he received a Kellen Fellowship from the American Council on Germany\, during which time he researched transatlantic trade policy. He lives with his wife and his three children in Berkeley\, California. \nRobin Quinville is the former Director of the Wilson Center’s Global Europe Program. She spent more than 30 years as a U.S. diplomat\, having served primarily in Europe – including postings to two multilateral organizations (the Organization for Security and Cooperation in Europe and NATO) and bilateral postings to Cyprus\, Bosnia\, Greece\, the United Kingdom\, and Germany. She also spent a year in Baghdad\, Iraq. In Washington\, she directed the Office of Western European Affairs at the Department of State and served as a Wilson Center State Department Fellow for a year. Her last foreign posting was as the Charge d’Affaires at the U.S. Embassy in Berlin\, Germany. \n[/vc_column_text][/vc_column][/vc_row]
URL:https://www.acgusa.org/event/munich-event-must-europe-become-more-independent-from-the-united-states-if-so-how/
CATEGORIES:Germany Events
END:VEVENT
END:VCALENDAR