BEGIN:VCALENDAR
VERSION:2.0
PRODID:-//American Council On Germany - ECPv6.15.16.1//NONSGML v1.0//EN
CALSCALE:GREGORIAN
METHOD:PUBLISH
X-ORIGINAL-URL:https://www.acgusa.org
X-WR-CALDESC:Events for American Council On Germany
REFRESH-INTERVAL;VALUE=DURATION:PT1H
X-Robots-Tag:noindex
X-PUBLISHED-TTL:PT1H
BEGIN:VTIMEZONE
TZID:America/New_York
BEGIN:DAYLIGHT
TZOFFSETFROM:-0500
TZOFFSETTO:-0400
TZNAME:EDT
DTSTART:20240310T070000
END:DAYLIGHT
BEGIN:STANDARD
TZOFFSETFROM:-0400
TZOFFSETTO:-0500
TZNAME:EST
DTSTART:20241103T060000
END:STANDARD
BEGIN:DAYLIGHT
TZOFFSETFROM:-0500
TZOFFSETTO:-0400
TZNAME:EDT
DTSTART:20250309T070000
END:DAYLIGHT
BEGIN:STANDARD
TZOFFSETFROM:-0400
TZOFFSETTO:-0500
TZNAME:EST
DTSTART:20251102T060000
END:STANDARD
BEGIN:DAYLIGHT
TZOFFSETFROM:-0500
TZOFFSETTO:-0400
TZNAME:EDT
DTSTART:20260308T070000
END:DAYLIGHT
BEGIN:STANDARD
TZOFFSETFROM:-0400
TZOFFSETTO:-0500
TZNAME:EST
DTSTART:20261101T060000
END:STANDARD
END:VTIMEZONE
BEGIN:VEVENT
DTSTART;TZID=America/New_York:20251016T120000
DTEND;TZID=America/New_York:20251016T140000
DTSTAMP:20260424T131618
CREATED:20251009T172522Z
LAST-MODIFIED:20251009T172522Z
UID:10001173-1760616000-1760623200@www.acgusa.org
SUMMARY:Perspective of a Foreign Correspondent:   Political Discourse and Social Cohesion in Germany and the United States
DESCRIPTION:[vc_row][vc_column][vc_column_text]The ACG and the Goethe-Institut will host a special Foreign Correspondent Unplugged in Berlin. \nThe American Council on Germany and the Goethe-Institut invites you to join us for the latest installment in our Foreign Correspondent Unplugged series\, which delves into current political debates on both sides of the Atlantic. \nIn a time of rapid change and complex challenges\, journalists play an essential role in informing the public and helping audiences make sense of events at home and abroad. How are current debates in Germany and the United States being covered\, and what parallels or contrasts can be drawn between the two countries? Clay Risen\, Reporter and Editor at The New York Times (2004 Young Leader)\, and Dr. Anna Sauerbrey\, Foreign Editor at Die Zeit (2018 ACG Kellen Fellow)\, will share their insights and experiences reporting on both sides of the Atlantic. The discussion will be moderated by Dr. Steven E. Sokol\, President of the American Council on Germany.[/vc_column_text][vc_btn title=”Register Here” style=”classic” link=”url:https%3A%2F%2Fwww.eventbrite.com%2Fe%2Fperspective-of-a-foreign-correspondent-tickets-1757531416779%3Faff%3Doddtdtcreator” css=”.vc_custom_1760030607239{background-color: #1e73be !important;background-position: center !important;background-repeat: no-repeat !important;background-size: cover !important;}”][vc_column_text]Clay Risen is a Reporter and Editor at The New York Times. He is also the author of Red Scare: Blacklists\, McCarthyism\, and the Making of Modern America. He reported for the Times from Berlin for the month of May. Mr. Risen has been at The New York Times since 2010. Before writing obituaries\, he was a Senior Editor on the 2020 politics team\, and before that an Editor on the Opinion desk\, most recently as the deputy Op-Ed editor. Before joining the Times\, he worked at The New Republic and Democracy: A Journal of Ideas. He has written eight books\, some about U.S. history\, some about whiskey. They include American Rye and The Crowded Hour: Theodore Roosevelt\, the Rough Riders\, and the Dawn of the American Century. He holds a degree in International Relations from Georgetown University and a Master’s in Social Science from the University of Chicago. \nDr. Anna Sauerbrey is the Foreign Editor at the German largest weekly newspaper\, Die Zeit. Before assuming this position\, she was Deputy Editor-in-Chief at Der Tagesspiegel\, a daily newspaper based in Berlin. She has written about German politics in The New York Times and comments on German and international politics on public German radio and television programs. She has also appeared on German television and on CNN and the BBC world service. She is the author of Machtwechsel. Wie eine neue Politikergeneration das Land verändert (Rowohlt Berlin\, 2022) a book on the generation of German policymakers succeeding Angela Merkel.  Dr. Sauerbrey received a Ph.D. in History from the University of Mainz in 2009. She has also studied Political Science and Journalism. She was an Arthur F. Burns Fellow with the Philadelphia Inquirer in 2013 and has extensively written about transatlantic relations and U.S. domestic politics since. She was a ACG Kellen Fellow in 2018. \nDr. Steven E. Sokol (moderator) has been the President and CEO of the American Council on Germany since 2015. Previously\, he served as President and CEO of the World Affairs Council of Pittsburgh and prior to that he was the Vice President and Director of Programs at the American Council on Germany. Prior to this\, Dr. Sokol served as the Deputy Director of the Aspen Institute Berlin\, was the Head of the Project Management Department at the Bonn International Center for Conversion GmbH (BICC)\, and a Program Officer in the Berlin office of the German Marshall Fund of the United States. He holds a Doctorate from Northeastern University as well as an M.A. in International Relations and International Economics from the Johns Hopkins University’s Paul Nitze School of Advanced International Studies (SAIS) and a B.A. from Wesleyan University. He has also studied at the Ruprecht-Karls-Universität in Heidelberg and as a Fulbright Scholar at the Freie Universität in Berlin. Dr. Sokol serves on several non-profit boards and is a member of the Council on Foreign Relations. He was awarded a Bundesverdienstkreuz (Order of Merit) for his work to strengthen German-American relations.[/vc_column_text][/vc_column][/vc_row]
URL:https://www.acgusa.org/event/perspective-of-a-foreign-correspondent-political-discourse-and-social-cohesion-in-germany-and-the-united-states/
CATEGORIES:Germany Events
END:VEVENT
END:VCALENDAR