BEGIN:VCALENDAR
VERSION:2.0
PRODID:-//American Council On Germany - ECPv6.15.16.1//NONSGML v1.0//EN
CALSCALE:GREGORIAN
METHOD:PUBLISH
X-WR-CALNAME:American Council On Germany
X-ORIGINAL-URL:https://www.acgusa.org
X-WR-CALDESC:Events for American Council On Germany
REFRESH-INTERVAL;VALUE=DURATION:PT1H
X-Robots-Tag:noindex
X-PUBLISHED-TTL:PT1H
BEGIN:VTIMEZONE
TZID:America/New_York
BEGIN:DAYLIGHT
TZOFFSETFROM:-0500
TZOFFSETTO:-0400
TZNAME:EDT
DTSTART:20250309T070000
END:DAYLIGHT
BEGIN:STANDARD
TZOFFSETFROM:-0400
TZOFFSETTO:-0500
TZNAME:EST
DTSTART:20251102T060000
END:STANDARD
BEGIN:DAYLIGHT
TZOFFSETFROM:-0500
TZOFFSETTO:-0400
TZNAME:EDT
DTSTART:20260308T070000
END:DAYLIGHT
BEGIN:STANDARD
TZOFFSETFROM:-0400
TZOFFSETTO:-0500
TZNAME:EST
DTSTART:20261101T060000
END:STANDARD
BEGIN:DAYLIGHT
TZOFFSETFROM:-0500
TZOFFSETTO:-0400
TZNAME:EDT
DTSTART:20270314T070000
END:DAYLIGHT
BEGIN:STANDARD
TZOFFSETFROM:-0400
TZOFFSETTO:-0500
TZNAME:EST
DTSTART:20271107T060000
END:STANDARD
END:VTIMEZONE
BEGIN:VEVENT
DTSTART;TZID=America/New_York:20260422T180000
DTEND;TZID=America/New_York:20260422T200000
DTSTAMP:20260423T225255
CREATED:20260416T190437Z
LAST-MODIFIED:20260419T201323Z
UID:10001259-1776880800-1776888000@www.acgusa.org
SUMMARY:Pittsburgh Event: “Almost One Year In: An Assessment of Friedrich Merz and His Coalition Government”
DESCRIPTION:[vc_row][vc_column][vc_column_text] \nThe Pittsburgh Eric M. Warburg Chapter of the American Council on Germany and the German American Chamber of Commerce cordially invite you to a Discussion and Reception on “Almost One Year In: An Assessment of Friedrich Merz and His Coalition Government” with Nadine Lindner\, Journalist\, Deutschlandradio. \nFor More Information and To Reserve Your Spot HERE by Monday\, April 20. \nNadine Lindner has been a Correspondent in the Berlin studio of “Deutschlandradio” since early 2016. Among other things\, Ms. Lindner is responsible for the news coverage of the Alternative for Germany (AfD) in the German parliament. Ms. Lindner studied Political Science at Leipzig University in Saxony and discovered her enthusiasm for radio at the training station “mephisto 97.6.” After graduating from university\, she worked as a freelance journalist for “MDR sputnik” and the Frankfurter Allgemeine Zeitung as well as Deutschlandradio. She completed her journalistic training at Deutschlandradio in Berlin. In 2013\, Ms. Lindner moved back to Saxony as a regional correspondent for Deutschlandradio\, where she covered the early evolution of the AfD and the anti-asylum movement Pegida. In 2024\, she received the prize from the Bundespressekonferenz\, the association of capital studio journalists\, for her reporting about the AfD and Eastern Germany. \nWith support from the Goethe-Institut USA \n[/vc_column_text][vc_btn title=”Register Here” link=”url:https%3A%2F%2Fwww.eventbrite.com%2Fe%2Fpittsburgh-event-discussion-with-nadine-lindner-tickets-1987442282367%3Faff%3Doddtdtcreator” css=”.vc_custom_1776629598168{background-color: #1e73be !important;background-position: center !important;background-repeat: no-repeat !important;background-size: cover !important;}”][/vc_column][/vc_row]
URL:https://www.acgusa.org/event/pittsburgh-event-almost-one-year-in-an-assessment-of-friedrich-merz-and-his-coalition-government/
CATEGORIES:Chapter Events
END:VEVENT
END:VCALENDAR