BEGIN:VCALENDAR
VERSION:2.0
PRODID:-//American Council On Germany - ECPv6.15.16.1//NONSGML v1.0//EN
CALSCALE:GREGORIAN
METHOD:PUBLISH
X-WR-CALNAME:American Council On Germany
X-ORIGINAL-URL:https://www.acgusa.org
X-WR-CALDESC:Events for American Council On Germany
REFRESH-INTERVAL;VALUE=DURATION:PT1H
X-Robots-Tag:noindex
X-PUBLISHED-TTL:PT1H
BEGIN:VTIMEZONE
TZID:America/New_York
BEGIN:DAYLIGHT
TZOFFSETFROM:-0500
TZOFFSETTO:-0400
TZNAME:EDT
DTSTART:20250309T070000
END:DAYLIGHT
BEGIN:STANDARD
TZOFFSETFROM:-0400
TZOFFSETTO:-0500
TZNAME:EST
DTSTART:20251102T060000
END:STANDARD
BEGIN:DAYLIGHT
TZOFFSETFROM:-0500
TZOFFSETTO:-0400
TZNAME:EDT
DTSTART:20260308T070000
END:DAYLIGHT
BEGIN:STANDARD
TZOFFSETFROM:-0400
TZOFFSETTO:-0500
TZNAME:EST
DTSTART:20261101T060000
END:STANDARD
BEGIN:DAYLIGHT
TZOFFSETFROM:-0500
TZOFFSETTO:-0400
TZNAME:EDT
DTSTART:20270314T070000
END:DAYLIGHT
BEGIN:STANDARD
TZOFFSETFROM:-0400
TZOFFSETTO:-0500
TZNAME:EST
DTSTART:20271107T060000
END:STANDARD
END:VTIMEZONE
BEGIN:VEVENT
DTSTART;TZID=America/New_York:20260421T180000
DTEND;TZID=America/New_York:20260421T193000
DTSTAMP:20260424T021326
CREATED:20260416T191157Z
LAST-MODIFIED:20260419T201136Z
UID:10001260-1776794400-1776799800@www.acgusa.org
SUMMARY:Philadelphia Event: “Polarization and Populism in an Election Year: Insights on the Alternative for Germany”
DESCRIPTION:[vc_row][vc_column][vc_column_text] \n \nThe Philadelphia Eric M. Warburg Chapter of the American Council on Germany and The German Society of Pennsylvania cordially invite you to a discussion with Nadine Lindner\, Journalist\, Deutschlandradio on “Polarization and Populism in an Election Year: Insights on the Alternative for Germany.” \nFor More Information and To Reserve Your Spot Click HERE. \nJoin us for a timely and thought-provoking conversation with Nadine Lindner\, political correspondent in the Berlin studio of Deutschlandradio\, as part of her U.S. speaking tour organized in partnership with the Goethe-Institut and the American Council on Germany. \nIn this special Philadelphia event\, Nadine Lindner will share insights from the front lines of German political reporting and reflect on the current state of democracy in Germany\, the United States\, and beyond. Her work has focused extensively on German domestic politics\, including coverage of the AfD\, transport policy\, and the rise of Pegida in Saxony. \nWith years of experience reporting on political developments and democratic challenges in Germany\, Lindner brings a sharp journalistic perspective to questions of polarization\, public discourse\, and the evolving transatlantic political landscape. \nThis event offers a unique opportunity to hear directly from one of Germany’s leading public radio journalists and to engage in a broader conversation about democracy in 2026. \nNadine Lindner has been a Correspondent in the Berlin studio of “Deutschlandradio” since early 2016. Among other things\, Ms. Lindner is responsible for the news coverage of the Alternative for Germany (AfD) in the German parliament. Ms. Lindner studied Political Science at Leipzig University in Saxony and discovered her enthusiasm for radio at the training station “mephisto 97.6.” After graduating from university\, she worked as a freelance journalist for “MDR sputnik” and the Frankfurter Allgemeine Zeitung as well as Deutschlandradio. She completed her journalistic training at Deutschlandradio in Berlin. In 2013\, Ms. Lindner moved back to Saxony as a regional correspondent for Deutschlandradio\, where she covered the early evolution of the AfD and the anti-asylum movement Pegida. In 2024\, she received the prize from the Bundespressekonferenz\, the association of capital studio journalists\, for her reporting about the AfD and Eastern Germany. \nWith support from the Goethe-Institut USA \n[/vc_column_text][vc_btn title=”Register Here” style=”classic” link=”url:https%3A%2F%2Fgermansociety.app.neoncrm.com%2Fnx%2Fportal%2Fneonevents%2Fevents%3Fpath%3D%252Fportal%252Fevents%252F40734″ css=”.vc_custom_1776629490969{background-color: #1e73be !important;background-position: center !important;background-repeat: no-repeat !important;background-size: cover !important;}”][/vc_column][/vc_row]
URL:https://www.acgusa.org/event/philadelphia-event-polarization-and-populism-in-an-election-year-insights-on-the-alternative-for-germany/
CATEGORIES:Chapter Events
END:VEVENT
END:VCALENDAR