BEGIN:VCALENDAR
VERSION:2.0
PRODID:-//American Council On Germany - ECPv6.15.16.1//NONSGML v1.0//EN
CALSCALE:GREGORIAN
METHOD:PUBLISH
X-WR-CALNAME:American Council On Germany
X-ORIGINAL-URL:https://www.acgusa.org
X-WR-CALDESC:Events for American Council On Germany
REFRESH-INTERVAL;VALUE=DURATION:PT1H
X-Robots-Tag:noindex
X-PUBLISHED-TTL:PT1H
BEGIN:VTIMEZONE
TZID:America/New_York
BEGIN:DAYLIGHT
TZOFFSETFROM:-0500
TZOFFSETTO:-0400
TZNAME:EDT
DTSTART:20250309T070000
END:DAYLIGHT
BEGIN:STANDARD
TZOFFSETFROM:-0400
TZOFFSETTO:-0500
TZNAME:EST
DTSTART:20251102T060000
END:STANDARD
BEGIN:DAYLIGHT
TZOFFSETFROM:-0500
TZOFFSETTO:-0400
TZNAME:EDT
DTSTART:20260308T070000
END:DAYLIGHT
BEGIN:STANDARD
TZOFFSETFROM:-0400
TZOFFSETTO:-0500
TZNAME:EST
DTSTART:20261101T060000
END:STANDARD
BEGIN:DAYLIGHT
TZOFFSETFROM:-0500
TZOFFSETTO:-0400
TZNAME:EDT
DTSTART:20270314T070000
END:DAYLIGHT
BEGIN:STANDARD
TZOFFSETFROM:-0400
TZOFFSETTO:-0500
TZNAME:EST
DTSTART:20271107T060000
END:STANDARD
END:VTIMEZONE
BEGIN:VEVENT
DTSTART;TZID=America/New_York:20260324T193000
DTEND;TZID=America/New_York:20260324T203000
DTSTAMP:20260420T154423
CREATED:20260312T193904Z
LAST-MODIFIED:20260312T195109Z
UID:10001238-1774380600-1774384200@www.acgusa.org
SUMMARY:Chicago Event: “The Transatlantic Trade Partnership Under Strain: Status Quo or a Path Forward?”
DESCRIPTION:[vc_row][vc_column][vc_column_text]The Chicago Eric M. Warburg Chapter of the American Council on Germany and DANK Haus German American Cultural Center will host a discussion  with Dr. Samina Sultan\, Senior Economist for European Economic and Fiscal Policy at the German Economic Institute (IW)\, on “The Transatlantic Trade Partnership Under Strain: Status Quo or a Path Forward?” \nDr. Samina Sultan is a Senior Economist for European Economic and Fiscal Policy at the German Economic Institute (IW). She studied economics at the Universities of Mannheim\, St. Gallen\, and Tübingen; she did her PhD at the Ludwig Maximilian University of Munich (LMU) and at the University of California\, Berkeley. Her research interests include trade\, trade policy\, Europe\, fiscal and industrial policies\, and China.[/vc_column_text][/vc_column][/vc_row]
URL:https://www.acgusa.org/event/chicago-event-the-transatlantic-trade-partnership-under-strain-status-quo-or-a-path-forward/
CATEGORIES:Chapter Events
END:VEVENT
END:VCALENDAR