BEGIN:VCALENDAR
VERSION:2.0
PRODID:-//American Council On Germany - ECPv6.15.16.1//NONSGML v1.0//EN
CALSCALE:GREGORIAN
METHOD:PUBLISH
X-WR-CALNAME:American Council On Germany
X-ORIGINAL-URL:https://www.acgusa.org
X-WR-CALDESC:Events for American Council On Germany
REFRESH-INTERVAL;VALUE=DURATION:PT1H
X-Robots-Tag:noindex
X-PUBLISHED-TTL:PT1H
BEGIN:VTIMEZONE
TZID:America/New_York
BEGIN:DAYLIGHT
TZOFFSETFROM:-0500
TZOFFSETTO:-0400
TZNAME:EDT
DTSTART:20240310T070000
END:DAYLIGHT
BEGIN:STANDARD
TZOFFSETFROM:-0400
TZOFFSETTO:-0500
TZNAME:EST
DTSTART:20241103T060000
END:STANDARD
BEGIN:DAYLIGHT
TZOFFSETFROM:-0500
TZOFFSETTO:-0400
TZNAME:EDT
DTSTART:20250309T070000
END:DAYLIGHT
BEGIN:STANDARD
TZOFFSETFROM:-0400
TZOFFSETTO:-0500
TZNAME:EST
DTSTART:20251102T060000
END:STANDARD
BEGIN:DAYLIGHT
TZOFFSETFROM:-0500
TZOFFSETTO:-0400
TZNAME:EDT
DTSTART:20260308T070000
END:DAYLIGHT
BEGIN:STANDARD
TZOFFSETFROM:-0400
TZOFFSETTO:-0500
TZNAME:EST
DTSTART:20261101T060000
END:STANDARD
END:VTIMEZONE
BEGIN:VEVENT
DTSTART;TZID=America/New_York:20250527T090000
DTEND;TZID=America/New_York:20250527T100000
DTSTAMP:20260422T002245
CREATED:20250521T141013Z
LAST-MODIFIED:20250521T141013Z
UID:10001121-1748336400-1748340000@www.acgusa.org
SUMMARY:Kaffeepause: What's Abuzz in Berlin?
DESCRIPTION:[vc_row][vc_column][vc_column_text] \n\nThe ACG regularly hosts discussions with a journalist based in Berlin on the topics making the headlines and shaping political discourse. Join us on May 27 at 9:00 am ET for a Tuesday edition of our Kaffeepause with Nette Nöstlinger\, Political Reporter for Politico Europe.\n[/vc_column_text][vc_btn title=”Register here” style=”classic” link=”url:https%3A%2F%2Fus02web.zoom.us%2Fwebinar%2Fregister%2F2917478365450%2FWN_FESxeYo8T2-EeAnmRfSrKA” css=”.vc_custom_1747836574215{background-color: #1e73be !important;background-position: center !important;background-repeat: no-repeat !important;background-size: cover !important;}”][vc_column_text]Nette Nöstlinger is a Politics Reporter for Politico Europe in Berlin\, where she keeps an eye on all things relevant to an international audience interested in the EU’s biggest economy. Her coverage has ranged from the rise of the far-right Alternative for Germany (AfD) to Germany’s fiscal and military U-turn in the wake of Russia’s full-scale invasion of Ukraine. She was trained at Reuters with stints in Berlin\, Frankfurt\, and Brussels. She grew up in Antwerp with a Belgian father and an Austrian mother.[/vc_column_text][/vc_column][/vc_row]
URL:https://www.acgusa.org/event/kaffeepause-whats-abuzz-in-berlin-120/
CATEGORIES:Virtual Discussions
END:VEVENT
END:VCALENDAR