BEGIN:VCALENDAR
VERSION:2.0
PRODID:-//American Council On Germany - ECPv6.15.16.1//NONSGML v1.0//EN
CALSCALE:GREGORIAN
METHOD:PUBLISH
X-ORIGINAL-URL:https://www.acgusa.org
X-WR-CALDESC:Events for American Council On Germany
REFRESH-INTERVAL;VALUE=DURATION:PT1H
X-Robots-Tag:noindex
X-PUBLISHED-TTL:PT1H
BEGIN:VTIMEZONE
TZID:America/New_York
BEGIN:DAYLIGHT
TZOFFSETFROM:-0500
TZOFFSETTO:-0400
TZNAME:EDT
DTSTART:20240310T070000
END:DAYLIGHT
BEGIN:STANDARD
TZOFFSETFROM:-0400
TZOFFSETTO:-0500
TZNAME:EST
DTSTART:20241103T060000
END:STANDARD
BEGIN:DAYLIGHT
TZOFFSETFROM:-0500
TZOFFSETTO:-0400
TZNAME:EDT
DTSTART:20250309T070000
END:DAYLIGHT
BEGIN:STANDARD
TZOFFSETFROM:-0400
TZOFFSETTO:-0500
TZNAME:EST
DTSTART:20251102T060000
END:STANDARD
BEGIN:DAYLIGHT
TZOFFSETFROM:-0500
TZOFFSETTO:-0400
TZNAME:EDT
DTSTART:20260308T070000
END:DAYLIGHT
BEGIN:STANDARD
TZOFFSETFROM:-0400
TZOFFSETTO:-0500
TZNAME:EST
DTSTART:20261101T060000
END:STANDARD
END:VTIMEZONE
BEGIN:VEVENT
DTSTART;TZID=America/New_York:20250430T113000
DTEND;TZID=America/New_York:20250430T133000
DTSTAMP:20260423T203644
CREATED:20250407T212719Z
LAST-MODIFIED:20250407T212719Z
UID:10001106-1746012600-1746019800@www.acgusa.org
SUMMARY:The Future of the Transatlantic Trade Relationship
DESCRIPTION:[vc_row][vc_column][vc_column_text]The Charlotte Warburg Chapter and the N.C. Zeitgeist Foundation will host a discussion and luncheon with Julian Heißler\, U.S. Correspondent for WirtschaftsWoche.[/vc_column_text][vc_btn title=”Register Here” style=”classic” link=”url:https%3A%2F%2Flp.constantcontactpages.com%2Fev%2Freg%2Fswxcc7c%2Flp%2Fe3223088-8a76-4a36-ad5c-4472338153c6″ css=”.vc_custom_1744061147762{background-color: #1e73be !important;background-position: center !important;background-repeat: no-repeat !important;background-size: cover !important;}”][vc_column_text]Julian Heißler has been working as the U.S. correspondent for WirtschaftsWoche in Washington\, D.C.\, since 2018. Before that\, he spent several years in Berlin writing about German federal politics for various media outlets. He studied communication studies\, political science\, and philosophy at the Free University of Berlin and completed the master’s program in journalism at the Hamburg Media School. \nHis first book Traum und Albtraum: Amerika und die vielen Gesichter derFreiheit (Dream and Nightmare: America and the Many Faces of Freedom) was published in October 2023. This October his second book on America’s “oligarchs” will be published at Piper Verlag.[/vc_column_text][/vc_column][/vc_row]
URL:https://www.acgusa.org/event/the-future-of-the-transatlantic-trade-relationship/
CATEGORIES:Chapter Events
END:VEVENT
BEGIN:VEVENT
DTSTART;TZID=America/New_York:20250430T170000
DTEND;TZID=America/New_York:20250430T193000
DTSTAMP:20260423T203644
CREATED:20250327T153927Z
LAST-MODIFIED:20250328T200047Z
UID:10001101-1746032400-1746041400@www.acgusa.org
SUMMARY:Annual Meeting of the Members
DESCRIPTION:[vc_row][vc_column][vc_column_text]The American Council on Germany will hold the Annual Meeting of the Members. More information to follow.[/vc_column_text][/vc_column][/vc_row]
URL:https://www.acgusa.org/event/annual-meeting-of-the-members-3/
CATEGORIES:NYC Events
END:VEVENT
END:VCALENDAR