BEGIN:VCALENDAR
VERSION:2.0
PRODID:-//American Council On Germany - ECPv6.15.16.1//NONSGML v1.0//EN
CALSCALE:GREGORIAN
METHOD:PUBLISH
X-ORIGINAL-URL:https://www.acgusa.org
X-WR-CALDESC:Events for American Council On Germany
REFRESH-INTERVAL;VALUE=DURATION:PT1H
X-Robots-Tag:noindex
X-PUBLISHED-TTL:PT1H
BEGIN:VTIMEZONE
TZID:America/New_York
BEGIN:DAYLIGHT
TZOFFSETFROM:-0500
TZOFFSETTO:-0400
TZNAME:EDT
DTSTART:20240310T070000
END:DAYLIGHT
BEGIN:STANDARD
TZOFFSETFROM:-0400
TZOFFSETTO:-0500
TZNAME:EST
DTSTART:20241103T060000
END:STANDARD
BEGIN:DAYLIGHT
TZOFFSETFROM:-0500
TZOFFSETTO:-0400
TZNAME:EDT
DTSTART:20250309T070000
END:DAYLIGHT
BEGIN:STANDARD
TZOFFSETFROM:-0400
TZOFFSETTO:-0500
TZNAME:EST
DTSTART:20251102T060000
END:STANDARD
BEGIN:DAYLIGHT
TZOFFSETFROM:-0500
TZOFFSETTO:-0400
TZNAME:EDT
DTSTART:20260308T070000
END:DAYLIGHT
BEGIN:STANDARD
TZOFFSETFROM:-0400
TZOFFSETTO:-0500
TZNAME:EST
DTSTART:20261101T060000
END:STANDARD
END:VTIMEZONE
BEGIN:VEVENT
DTSTART;TZID=America/New_York:20250303T090000
DTEND;TZID=America/New_York:20250303T100000
DTSTAMP:20260421T172410
CREATED:20250226T172337Z
LAST-MODIFIED:20250226T172337Z
UID:10001084-1740992400-1740996000@www.acgusa.org
SUMMARY:Kaffeepause: What's Abuzz in Berlin?
DESCRIPTION:[vc_row][vc_column][vc_column_text]The ACG regularly hosts discussions with a journalist based in Germany on the topics making the headlines and shaping political discourse. Join us on Monday\, March 3\, at 9:00 a.m. ET for a Kaffeepause with Paul-Anton Krüger\, Editor for Der Spiegel.[/vc_column_text][vc_btn title=”Register Here” style=”classic” link=”url:https%3A%2F%2Fus02web.zoom.us%2Fwebinar%2Fregister%2F3017405905162%2FWN_vQHKK1ggT4OAahm1GT337Q” css=”.vc_custom_1740590581001{background-color: #1e73be !important;background-position: center !important;background-repeat: no-repeat !important;background-size: cover !important;}”][vc_column_text]Paul-Anton Krüger has been an Editor at SPIEGEL’s capital city office since January 2025. He was the Parliamentary Correspondent in the Berlin Bureau of the Süddeutsche Zeitung from September 2021 to December 2024. He previously reported on political affairs and served as Deputy Head of the Foreign Policy Department\, focusing on the Middle East and international security for three years. Before that\, he spent four years in Cairo as a correspondent covering large parts of the Arab world and Iran. \nAfter graduating from the Alte Landesschule in Korbach\, he studied journalism in Berlin and Munich. In August 2005\, he joined the Süddeutsche Zeitung as a volunteer\, worked as an editor from 2008\, and as head of the foreign policy department from 2011. In the fall of 2007\, Mr. Krüger was a guest editor at the Chicago Tribune as part of the Arthur F. Burns Fellowship\, the German-American journalism scholarship of the International Journalism Programs e.V.[/vc_column_text][/vc_column][/vc_row]
URL:https://www.acgusa.org/event/kaffeepause-whats-abuzz-in-berlin-113/
CATEGORIES:Virtual Discussions
END:VEVENT
BEGIN:VEVENT
DTSTART;TZID=America/New_York:20250303T123000
DTEND;TZID=America/New_York:20250303T140000
DTSTAMP:20260421T172410
CREATED:20250221T175402Z
LAST-MODIFIED:20250221T175402Z
UID:10001081-1741005000-1741010400@www.acgusa.org
SUMMARY:After the Elections in Germany and the United States:  The Path Forward in Ukraine
DESCRIPTION:[vc_row][vc_column][vc_column_text]The ACG will host a discussion and luncheon with Annett Meiritz\, Washington Correspondent\, Handelsblatt.[/vc_column_text][vc_btn title=”Register Here” style=”classic” link=”url:https%3A%2F%2Facgusa.mystagingwebsite.com%2Fmarch-3-discussion-with-annett-meiritz%2F” css=”.vc_custom_1740160417769{background-color: #1e73be !important;background-position: center !important;background-repeat: no-repeat !important;background-size: cover !important;}”][vc_column_text]Annett Meiritz is the Washington Correspondent for Germany’s leading business\, trade\, and finance daily Handelsblatt. She covers the U.S. Administration and Congress\, usually from an economic angle. Previously she worked as Parliamentary Correspondent for Germany’s leading news portal Spiegel Online\, based in Berlin. She holds a B.A. degree in Modern History and Media Science and was educated to be a Journalist at the Berlin Journalism School.[/vc_column_text][/vc_column][/vc_row]
URL:https://www.acgusa.org/event/after-the-elections-in-germany-and-the-united-states-the-path-forward-in-ukraine/
CATEGORIES:NYC Events
END:VEVENT
END:VCALENDAR