BEGIN:VCALENDAR
VERSION:2.0
PRODID:-//American Council On Germany - ECPv6.15.16.1//NONSGML v1.0//EN
CALSCALE:GREGORIAN
METHOD:PUBLISH
X-WR-CALNAME:American Council On Germany
X-ORIGINAL-URL:https://www.acgusa.org
X-WR-CALDESC:Events for American Council On Germany
REFRESH-INTERVAL;VALUE=DURATION:PT1H
X-Robots-Tag:noindex
X-PUBLISHED-TTL:PT1H
BEGIN:VTIMEZONE
TZID:America/New_York
BEGIN:DAYLIGHT
TZOFFSETFROM:-0500
TZOFFSETTO:-0400
TZNAME:EDT
DTSTART:20240310T070000
END:DAYLIGHT
BEGIN:STANDARD
TZOFFSETFROM:-0400
TZOFFSETTO:-0500
TZNAME:EST
DTSTART:20241103T060000
END:STANDARD
BEGIN:DAYLIGHT
TZOFFSETFROM:-0500
TZOFFSETTO:-0400
TZNAME:EDT
DTSTART:20250309T070000
END:DAYLIGHT
BEGIN:STANDARD
TZOFFSETFROM:-0400
TZOFFSETTO:-0500
TZNAME:EST
DTSTART:20251102T060000
END:STANDARD
BEGIN:DAYLIGHT
TZOFFSETFROM:-0500
TZOFFSETTO:-0400
TZNAME:EDT
DTSTART:20260308T070000
END:DAYLIGHT
BEGIN:STANDARD
TZOFFSETFROM:-0400
TZOFFSETTO:-0500
TZNAME:EST
DTSTART:20261101T060000
END:STANDARD
END:VTIMEZONE
BEGIN:VEVENT
DTSTART;TZID=America/New_York:20250224T090000
DTEND;TZID=America/New_York:20250224T100000
DTSTAMP:20260421T102158
CREATED:20250220T172949Z
LAST-MODIFIED:20250220T172949Z
UID:10001079-1740387600-1740391200@www.acgusa.org
SUMMARY:Kaffeepause: What's Abuzz in Berlin?
DESCRIPTION:[vc_row][vc_column][vc_column_text]The ACG regularly hosts discussions with a journalist based in Germany on the topics making the headlines and shaping political discourse. Join us on Monday\, February 24\, at 9:00 a.m. ET for a Kaffeepause following the German federal elections with 2018 Kellen Fellow Dr. Anna Sauerbrey\, Foreign Editor for Die Zeit.[/vc_column_text][vc_btn title=”Register Here” style=”classic” link=”url:https%3A%2F%2Fus02web.zoom.us%2Fwebinar%2Fregister%2F4617400725347%2FWN_DSsCOPVkT86ZmARq85Bb7g” css=”.vc_custom_1740072563618{background-color: #1e73be !important;background-position: center !important;background-repeat: no-repeat !important;background-size: cover !important;}”][vc_column_text]Dr. Anna Sauerbrey is the Foreign Editor at the German largest weekly newspaper\, Die Zeit. Before assuming this position\, she was Deputy Editor-in-Chief at Der Tagesspiegel\, a daily newspaper based in Berlin. She has written about German politics in The New York Times and comments on German and international politics on public German radio and television programs. She has also appeared on CNN and the BBC world service. She is the author of Machtwechsel. Wie eine neue Politikergeneration das Land verändert (Rowohlt Berlin\, 2022) a book on the generation of German policymakers succeeding Angela Merkel. \nDr. Sauerbrey received a Ph.D. in history from the University of Mainz in 2009. She has also studied Political Science and Journalism. She was an Arthur F. Burns Fellow with the Philadelphia Inquirer in 2013 and has extensively written about transatlantic relations and U.S. domestic politics since. In 2018\, she was awarded an Anna-Maria and Stephen M. Kellen Fellowship for Berlin-based Journalists by the American Council on Germany.[/vc_column_text][/vc_column][/vc_row]
URL:https://www.acgusa.org/event/kaffeepause-whats-abuzz-in-berlin-112/
CATEGORIES:Virtual Discussions
END:VEVENT
END:VCALENDAR