BEGIN:VCALENDAR
VERSION:2.0
PRODID:-//American Council On Germany - ECPv6.15.16.1//NONSGML v1.0//EN
CALSCALE:GREGORIAN
METHOD:PUBLISH
X-ORIGINAL-URL:https://www.acgusa.org
X-WR-CALDESC:Events for American Council On Germany
REFRESH-INTERVAL;VALUE=DURATION:PT1H
X-Robots-Tag:noindex
X-PUBLISHED-TTL:PT1H
BEGIN:VTIMEZONE
TZID:America/New_York
BEGIN:DAYLIGHT
TZOFFSETFROM:-0500
TZOFFSETTO:-0400
TZNAME:EDT
DTSTART:20240310T070000
END:DAYLIGHT
BEGIN:STANDARD
TZOFFSETFROM:-0400
TZOFFSETTO:-0500
TZNAME:EST
DTSTART:20241103T060000
END:STANDARD
BEGIN:DAYLIGHT
TZOFFSETFROM:-0500
TZOFFSETTO:-0400
TZNAME:EDT
DTSTART:20250309T070000
END:DAYLIGHT
BEGIN:STANDARD
TZOFFSETFROM:-0400
TZOFFSETTO:-0500
TZNAME:EST
DTSTART:20251102T060000
END:STANDARD
BEGIN:DAYLIGHT
TZOFFSETFROM:-0500
TZOFFSETTO:-0400
TZNAME:EDT
DTSTART:20260308T070000
END:DAYLIGHT
BEGIN:STANDARD
TZOFFSETFROM:-0400
TZOFFSETTO:-0500
TZNAME:EST
DTSTART:20261101T060000
END:STANDARD
END:VTIMEZONE
BEGIN:VEVENT
DTSTART;TZID=America/New_York:20250203T090000
DTEND;TZID=America/New_York:20250203T100000
DTSTAMP:20260421T132257
CREATED:20250130T174950Z
LAST-MODIFIED:20250130T174950Z
UID:10001070-1738573200-1738576800@www.acgusa.org
SUMMARY:Kaffeepause: What's Abuzz in Berlin?
DESCRIPTION:[vc_row][vc_column][vc_column_text]The ACG regularly hosts discussions with a journalist based in Germany on the topics that are making the headlines and shaping political discourse. Join us on Monday\, February 3 at 9:00 am ET for a Kaffeepause with award-winning journalist and ACG fellow Vladimir Balzer.[/vc_column_text][vc_btn title=”Register here” style=”classic” link=”url:https%3A%2F%2Fus02web.zoom.us%2Fwebinar%2Fregister%2F5417382591902%2FWN_-39bFy-_RH-krhrg07h25w” css=”.vc_custom_1738259236365{background-color: #1e73be !important;background-position: center !important;background-repeat: no-repeat !important;background-size: cover !important;}”][vc_column_text]Vladimir Balzer is an award-winning journalist and moderator at Deutschlandfunk Kultur. He grew up in Leipzig and studied German\, art history\, and journalism in Dublin\, Venice\, and Leipzig. He studied abroad in Italy and the United States. He began his career as a presenter\, reporter\, and editor at Deutschlandradio and MDR. Mr. Balzer hosts\, among other programs\, the daily programs “Fazit – Kultur vom Tage” and “Studio 9” on Deutschlandfunk Kultur. In 2022\, he was selected to be a Kellen Fellow by the American Council on Germany.[/vc_column_text][/vc_column][/vc_row]
URL:https://www.acgusa.org/event/kaffeepause-whats-abuzz-in-berlin-110/
CATEGORIES:Virtual Discussions
END:VEVENT
BEGIN:VEVENT
DTSTART;TZID=America/New_York:20250203T110000
DTEND;TZID=America/New_York:20250203T120000
DTSTAMP:20260421T132257
CREATED:20250129T151017Z
LAST-MODIFIED:20250129T151017Z
UID:10001068-1738580400-1738584000@www.acgusa.org
SUMMARY:Hot Topics\, Cold Realties - Trade\, Tariffs\, and a Shifting Global Economy
DESCRIPTION:[vc_row][vc_column][vc_column_text]The current state of the global economy is marked by significant uncertainty and change\, driven by geopolitical tensions\, evolving supply chains\, and shifting economic priorities. After years of globalized trade liberalization\, protectionist ideas have resurfaced\, with possible trade wars and tariffs that could affect industries and consumers worldwide. \nJoin the ACG and 1014 for a virtual discussion on these protectionist trends and their impact on the global economy with Benn Steil\, Director of International Economics at the Council on Foreign Relations in New York\, and Rolf Langhammer\, former Vice President of the Kiel Institute for the World Economy.[/vc_column_text][vc_btn title=”Register Here” style=”classic” link=”url:https%3A%2F%2Fus02web.zoom.us%2Fwebinar%2Fregister%2F5517381633348%2FWN_1GCOTxY8SxmW7QTxPMYJCQ” css=”.vc_custom_1738163376615{background-color: #1e73be !important;background-position: center !important;background-repeat: no-repeat !important;background-size: cover !important;}”][vc_column_text]Rolf J. Langhammer was Vice-President of the Kiel Institute for the World Economy from October 1997 until August 2012 and Professor at the Kiel Institute. He has remained active at the Institute. In addition\, he has been an Honorary Professor in of International Economic Relations and Development Economics at the Faculty of Economics\, Business Administration\, and Social Sciences\, at Kiel University since November 1995 and a Professor of Development Economics and International Trade at the WHU Otto Beisheim School of Management in Vallendar/Koblenz from 2013-2016. \nProf. Langhammer has served as a consultant to a number of international institutions (EU\, World Bank\, OECD\, UNIDO\, ADB)\, as well as to the German ministries of economic affairs and economic cooperation. Between 1995 and 2007\, he was a member of the Scientific Advisory Council of the Federal Ministry of Economic Co-operation and Development. His research issues cover international trade patterns\, trade policies\, regional integration\, and international capital flows. He has published in professional journals and contributed to many volumes of conference proceedings. \nBenn Steil is a Senior Fellow and the Director of International Economics at the Council on Foreign Relations in New York. He is the lead writer of the Council’s Geo-Graphics economics blog and the creator of nine web-based interactives tracking Global Monetary Policy\, Global Inflation\, Global Imbalances\, Global Growth\, Global Trade\, Global Energy\, Sovereign Risk\, China’s Belt and Road\, and Central Bank Currency Swaps. He also writes a monthly column for Barron’s. \nDr. Steil has written and spoken widely on international finance\, monetary policy\, financial markets\, and economic and diplomatic history. He has testified before the U.S. Senate\, House\, and CFTC. His most recent book\, The World That Wasn’t: Henry Wallace and the Fate of the American Century\, was named in the Wall Street Journal\, New York Times\, and Financial Times “Best Books of 2024” lists.[/vc_column_text][/vc_column][/vc_row]
URL:https://www.acgusa.org/event/hot-topics-cold-realties-trade-tariffs-and-a-shifting-global-economy/
CATEGORIES:Virtual Discussions
END:VEVENT
END:VCALENDAR