BEGIN:VCALENDAR
VERSION:2.0
PRODID:-//American Council On Germany - ECPv6.15.16.1//NONSGML v1.0//EN
CALSCALE:GREGORIAN
METHOD:PUBLISH
X-WR-CALNAME:American Council On Germany
X-ORIGINAL-URL:https://www.acgusa.org
X-WR-CALDESC:Events for American Council On Germany
REFRESH-INTERVAL;VALUE=DURATION:PT1H
X-Robots-Tag:noindex
X-PUBLISHED-TTL:PT1H
BEGIN:VTIMEZONE
TZID:America/New_York
BEGIN:DAYLIGHT
TZOFFSETFROM:-0500
TZOFFSETTO:-0400
TZNAME:EDT
DTSTART:20240310T070000
END:DAYLIGHT
BEGIN:STANDARD
TZOFFSETFROM:-0400
TZOFFSETTO:-0500
TZNAME:EST
DTSTART:20241103T060000
END:STANDARD
BEGIN:DAYLIGHT
TZOFFSETFROM:-0500
TZOFFSETTO:-0400
TZNAME:EDT
DTSTART:20250309T070000
END:DAYLIGHT
BEGIN:STANDARD
TZOFFSETFROM:-0400
TZOFFSETTO:-0500
TZNAME:EST
DTSTART:20251102T060000
END:STANDARD
BEGIN:DAYLIGHT
TZOFFSETFROM:-0500
TZOFFSETTO:-0400
TZNAME:EDT
DTSTART:20260308T070000
END:DAYLIGHT
BEGIN:STANDARD
TZOFFSETFROM:-0400
TZOFFSETTO:-0500
TZNAME:EST
DTSTART:20261101T060000
END:STANDARD
END:VTIMEZONE
BEGIN:VEVENT
DTSTART;TZID=America/New_York:20250123T110000
DTEND;TZID=America/New_York:20250123T120000
DTSTAMP:20260423T022300
CREATED:20250121T140636Z
LAST-MODIFIED:20250121T140636Z
UID:10001063-1737630000-1737633600@www.acgusa.org
SUMMARY:Mobility and Borders in Europe
DESCRIPTION:[vc_row][vc_column][vc_column_text]Europe is a place of free movement among nations – or is it? The Schengen area\, which was established in 1985 and today encompasses twenty-nine European countries\, allows people\, goods\, and capital to cross borders without restraint. Schengen transformed European life\, advancing both a democratic project of transnational citizenship and a neoliberal project of international free trade. But the right of free movement always excluded non-Europeans\, especially migrants of color from former colonies of the Schengen states. \nJoin us for a virtual discussion on January 23 with Prof. Dr. Kiran Klaus Patel\, Chair of Modern History at Ludwig Maximilian University Munich (LMU)\, and Young Leader alum Dr. Isaac Stanley-Becker\, a National Security Reporter at the Washington Post and author of Europe without Borders. They will discuss the ideas behind the creation of the Schengen area and the opportunities and challenges it has created.[/vc_column_text][vc_btn title=”Register Here” style=”classic” link=”url:https%3A%2F%2Fus02web.zoom.us%2Fwebinar%2Fregister%2F3417374683172%2FWN_42Qg4eu0T0iGWpnuGDS5QQ” css=”.vc_custom_1737468351789{background-color: #1e73be !important;background-position: center !important;background-repeat: no-repeat !important;background-size: cover !important;}”][vc_column_text]Prof. Dr. Kiran Klaus Patel holds the Chair of Modern History at Ludwig Maximilian University Munich (LMU) and is the Director of Project House Europe. Before joining LMU\, he held chairs at Maastricht University in the Netherlands (2011-2019) and the European University Institute in Florence\, Italy (2007-2011)\, and an assistant professorship at Humboldt University in Berlin (2002-2007). He has been (inter alia) a visiting fellow/professor at the Ecole des Hautes Etudes en Science Sociales in Paris\, the Free University of Berlin\, Freiburg University\, Harvard University\, the London School of Economics\, Sciences Po in Paris\, and the University of Oxford. His teaching and research focuses on issues of European and US American history. Comparative\, transnational\, and global approaches are prominently featured in his work. \nDr. Isaac Stanley-Becker (2024 ACG Young Leader) is a National Security Reporter at the Washington Post. He has reported from across Europe and the United States. He received his PhD from the University of Oxford\, where he studied as a Rhodes scholar. His book Europe without Borders was published this month.[/vc_column_text][/vc_column][/vc_row]
URL:https://www.acgusa.org/event/mobility-and-borders-in-europe/
CATEGORIES:Virtual Discussions
END:VEVENT
END:VCALENDAR