BEGIN:VCALENDAR
VERSION:2.0
PRODID:-//American Council On Germany - ECPv6.15.16.1//NONSGML v1.0//EN
CALSCALE:GREGORIAN
METHOD:PUBLISH
X-WR-CALNAME:American Council On Germany
X-ORIGINAL-URL:https://www.acgusa.org
X-WR-CALDESC:Events for American Council On Germany
REFRESH-INTERVAL;VALUE=DURATION:PT1H
X-Robots-Tag:noindex
X-PUBLISHED-TTL:PT1H
BEGIN:VTIMEZONE
TZID:America/New_York
BEGIN:DAYLIGHT
TZOFFSETFROM:-0500
TZOFFSETTO:-0400
TZNAME:EDT
DTSTART:20230312T070000
END:DAYLIGHT
BEGIN:STANDARD
TZOFFSETFROM:-0400
TZOFFSETTO:-0500
TZNAME:EST
DTSTART:20231105T060000
END:STANDARD
BEGIN:DAYLIGHT
TZOFFSETFROM:-0500
TZOFFSETTO:-0400
TZNAME:EDT
DTSTART:20240310T070000
END:DAYLIGHT
BEGIN:STANDARD
TZOFFSETFROM:-0400
TZOFFSETTO:-0500
TZNAME:EST
DTSTART:20241103T060000
END:STANDARD
BEGIN:DAYLIGHT
TZOFFSETFROM:-0500
TZOFFSETTO:-0400
TZNAME:EDT
DTSTART:20250309T070000
END:DAYLIGHT
BEGIN:STANDARD
TZOFFSETFROM:-0400
TZOFFSETTO:-0500
TZNAME:EST
DTSTART:20251102T060000
END:STANDARD
END:VTIMEZONE
BEGIN:VEVENT
DTSTART;TZID=America/New_York:20241008T110000
DTEND;TZID=America/New_York:20241008T120000
DTSTAMP:20260421T220337
CREATED:20241002T152351Z
LAST-MODIFIED:20241002T152351Z
UID:10001030-1728385200-1728388800@www.acgusa.org
SUMMARY:Breaking Stories While Undercover: Insights into the Work of an Investigative Journalist
DESCRIPTION:[vc_row][vc_column][vc_column_text]Just two years ago\, RTL Deutschland launched the new cross-media format “Stern Investigativ.” The results of the investigative research conducted are released simultaneously as a TV report on RTL\, in the print magazine “Stern\,” on various websites\, and as a podcast. For “Stern Investigativ” the award-winning journalists Christian Esser and Manka Heise have brought several important stories to light – including going undercover at the Tesla plant in Grünheide in Brandenburg and\, more recently\, uncovering questionable practices at the famous Berlin hospital Charité. \nJoin the ACG for a discussion with Manka Heise\, Leading Investigative Reporter at “Stern Investigativ\,” about the stories she has covered\, how she has covered them\, and how she has chosen which stories to pursue.[/vc_column_text][vc_btn title=”Register Here” style=”classic” link=”url:https%3A%2F%2Fus02web.zoom.us%2Fwebinar%2Fregister%2F5417278825527%2FWN__Wk-bm41SUegNto0hTsGfQ” css=”.vc_custom_1727882593722{background-color: #1e73be !important;background-position: center !important;background-repeat: no-repeat !important;background-size: cover !important;}”][vc_column_text]Before Manka Heise started working for Stern Investigativ\, she was an editor at Frontal 21 for ZDF for 10 years. There\, she produced investigative\, political\, and social background reports. Before that\, she worked as an editor for the ARD political magazine Kontraste. Ms. Heise graduated in religious studies and English and began her journalistic career with a traineeship at Spiegel TV/XXP.[/vc_column_text][/vc_column][/vc_row]
URL:https://www.acgusa.org/event/breaking-stories-while-undercover-insights-into-the-work-of-an-investigative-journalist/
CATEGORIES:Virtual Discussions
END:VEVENT
END:VCALENDAR